BEGIN:VCALENDAR
VERSION:1.0
BEGIN:VEVENT
DTSTART:20250923T193000
DTEND:20250923T203000
SUMMARY:The Romero Group vs. Jaywalker Lodge
DESCRIPTION:Fall Coed Softball 2025 - Carbondale Parks and Recreation
LOCATION:North Face Field
CATEGORIES:QuickScores; Softball - Adult Game
TRANSP:0
DALARM:20250923T173000;PT10M;2;The Romero Group vs. Jaywalker Lodge
END:VEVENT
BEGIN:VEVENT
DTSTART:20250930T203000
DTEND:20250930T213000
SUMMARY:Base Gods vs. The Romero Group
DESCRIPTION:Fall Coed Softball 2025 - Carbondale Parks and Recreation
LOCATION:North Face Field
CATEGORIES:QuickScores; Softball - Adult Game
TRANSP:0
DALARM:20250930T183000;PT10M;2;Base Gods vs. The Romero Group
END:VEVENT
BEGIN:VEVENT
DTSTART:20251007T193000
DTEND:20251007T203000
SUMMARY:Pancake Batters vs. The Romero Group
DESCRIPTION:Fall Coed Softball 2025 - Carbondale Parks and Recreation
LOCATION:North Face Field
CATEGORIES:QuickScores; Softball - Adult Game
TRANSP:0
DALARM:20251007T173000;PT10M;2;Pancake Batters vs. The Romero Group
END:VEVENT
BEGIN:VEVENT
DTSTART:20251014T183000
DTEND:20251014T193000
SUMMARY:The Romero Group vs. Fresh Trout
DESCRIPTION:Fall Coed Softball 2025 - Carbondale Parks and Recreation
LOCATION:North Face Field
CATEGORIES:QuickScores; Softball - Adult Game
TRANSP:0
DALARM:20251014T163000;PT10M;2;The Romero Group vs. Fresh Trout
END:VEVENT
BEGIN:VEVENT
DTSTART:20251021T203000
DTEND:20251021T213000
SUMMARY:The Romero Group vs. The Mighty Duck Snorts
DESCRIPTION:Fall Coed Softball 2025 - Carbondale Parks and Recreation
LOCATION:North Face Field
CATEGORIES:QuickScores; Softball - Adult Game
TRANSP:0
DALARM:20251021T183000;PT10M;2;The Romero Group vs. The Mighty Duck Snorts
END:VEVENT
BEGIN:VEVENT
DTSTART:20251028T183000
DTEND:20251028T193000
SUMMARY:The Jortstops vs. The Romero Group
DESCRIPTION:Fall Coed Softball 2025 - Carbondale Parks and Recreation
LOCATION:North Face Field
CATEGORIES:QuickScores; Softball - Adult Game
TRANSP:0
DALARM:20251028T163000;PT10M;2;The Jortstops vs. The Romero Group
END:VEVENT
BEGIN:VEVENT
DTSTART:20251104T193000
DTEND:20251104T203000
SUMMARY:[1] The Romero Group vs. [5] The Jortstops
DESCRIPTION:Fall Coed Softball 2025 - Carbondale Parks and Recreation
LOCATION:North Face Field
CATEGORIES:QuickScores; Softball - Adult Game
TRANSP:0
DALARM:20251104T173000;PT10M;2;[1] The Romero Group vs. [5] The Jortstops
END:VEVENT
BEGIN:VEVENT
DTSTART:20251111T203000
DTEND:20251111T213000
SUMMARY:[1] The Romero Group vs. Winner of Game 2
DESCRIPTION:Fall Coed Softball 2025 - Carbondale Parks and Recreation
LOCATION:North Face Field
CATEGORIES:QuickScores; Softball - Adult Game
TRANSP:0
DALARM:20251111T183000;PT10M;2;[1] The Romero Group vs. Winner of Game 2
END:VEVENT
END:VCALENDAR
