BEGIN:VCALENDAR
VERSION:1.0
BEGIN:VEVENT
DTSTART:20250916T203000
DTEND:20250916T213000
SUMMARY:Jaywalker Lodge vs. Pancake Batters
DESCRIPTION:Fall Coed Softball 2025 - Carbondale Parks and Recreation
LOCATION:North Face Field
CATEGORIES:QuickScores; Softball - Adult Game
TRANSP:0
DALARM:20250916T183000;PT10M;2;Jaywalker Lodge vs. Pancake Batters
END:VEVENT
BEGIN:VEVENT
DTSTART:20250923T203000
DTEND:20250923T213000
SUMMARY:Base Gods vs. Pancake Batters
DESCRIPTION:Fall Coed Softball 2025 - Carbondale Parks and Recreation
LOCATION:North Face Field
CATEGORIES:QuickScores; Softball - Adult Game
TRANSP:0
DALARM:20250923T183000;PT10M;2;Base Gods vs. Pancake Batters
END:VEVENT
BEGIN:VEVENT
DTSTART:20250930T183000
DTEND:20250930T193000
SUMMARY:Pancake Batters vs. The Jortstops
DESCRIPTION:Fall Coed Softball 2025 - Carbondale Parks and Recreation
LOCATION:North Face Field
CATEGORIES:QuickScores; Softball - Adult Game
TRANSP:0
DALARM:20250930T163000;PT10M;2;Pancake Batters vs. The Jortstops
END:VEVENT
BEGIN:VEVENT
DTSTART:20251007T193000
DTEND:20251007T203000
SUMMARY:Pancake Batters vs. The Romero Group
DESCRIPTION:Fall Coed Softball 2025 - Carbondale Parks and Recreation
LOCATION:North Face Field
CATEGORIES:QuickScores; Softball - Adult Game
TRANSP:0
DALARM:20251007T173000;PT10M;2;Pancake Batters vs. The Romero Group
END:VEVENT
BEGIN:VEVENT
DTSTART:20251014T193000
DTEND:20251014T203000
SUMMARY:The Mighty Duck Snorts vs. Pancake Batters
DESCRIPTION:Fall Coed Softball 2025 - Carbondale Parks and Recreation
LOCATION:North Face Field
CATEGORIES:QuickScores; Softball - Adult Game
TRANSP:0
DALARM:20251014T173000;PT10M;2;The Mighty Duck Snorts vs. Pancake Batters
END:VEVENT
BEGIN:VEVENT
DTSTART:20251028T203000
DTEND:20251028T213000
SUMMARY:Pancake Batters vs. Fresh Trout
DESCRIPTION:Fall Coed Softball 2025 - Carbondale Parks and Recreation
LOCATION:North Face Field
CATEGORIES:QuickScores; Softball - Adult Game
TRANSP:0
DALARM:20251028T183000;PT10M;2;Pancake Batters vs. Fresh Trout
END:VEVENT
BEGIN:VEVENT
DTSTART:20251111T183000
DTEND:20251111T193000
SUMMARY:[2] Jaywalker Lodge vs. [4] Pancake Batters
DESCRIPTION:Fall Coed Softball 2025 - Carbondale Parks and Recreation
LOCATION:North Face Field
CATEGORIES:QuickScores; Softball - Adult Game
TRANSP:0
DALARM:20251111T163000;PT10M;2;[2] Jaywalker Lodge vs. [4] Pancake Batters
END:VEVENT
END:VCALENDAR
