BEGIN:VCALENDAR
VERSION:1.0
BEGIN:VEVENT
DTSTART:20250915T200000
DTEND:20250915T210000
SUMMARY:Tristan's Angel's vs. MIG
DESCRIPTION:Fall Volleyball 2025 - Carbondale Parks and Recreation
LOCATION:East Gym
CATEGORIES:QuickScores; Volleyball Game
TRANSP:0
DALARM:20250915T180000;PT10M;2;Tristan's Angel's vs. MIG
END:VEVENT
BEGIN:VEVENT
DTSTART:20250922T190000
DTEND:20250922T200000
SUMMARY:Juan's Team vs. Tristan's Angel's
DESCRIPTION:Fall Volleyball 2025 - Carbondale Parks and Recreation
LOCATION:East Gym
CATEGORIES:QuickScores; Volleyball Game
TRANSP:0
DALARM:20250922T170000;PT10M;2;Juan's Team vs. Tristan's Angel's
END:VEVENT
BEGIN:VEVENT
DTSTART:20250929T200000
DTEND:20250929T210000
SUMMARY:Tristan's Angel's vs. Hit it and Quit it
DESCRIPTION:Fall Volleyball 2025 - Carbondale Parks and Recreation
LOCATION:West Gym
CATEGORIES:QuickScores; Volleyball Game
TRANSP:0
DALARM:20250929T180000;PT10M;2;Tristan's Angel's vs. Hit it and Quit it
END:VEVENT
BEGIN:VEVENT
DTSTART:20251006T200000
DTEND:20251006T210000
SUMMARY:MIG vs. Tristan's Angel's
DESCRIPTION:Fall Volleyball 2025 - Carbondale Parks and Recreation
LOCATION:West Gym
CATEGORIES:QuickScores; Volleyball Game
TRANSP:0
DALARM:20251006T180000;PT10M;2;MIG vs. Tristan's Angel's
END:VEVENT
BEGIN:VEVENT
DTSTART:20251013T200000
DTEND:20251013T210000
SUMMARY:Tristan's Angel's vs. Baker and the Cakes
DESCRIPTION:Fall Volleyball 2025 - Carbondale Parks and Recreation
LOCATION:West Gym
CATEGORIES:QuickScores; Volleyball Game
TRANSP:0
DALARM:20251013T180000;PT10M;2;Tristan's Angel's vs. Baker and the Cakes
END:VEVENT
BEGIN:VEVENT
DTSTART:20251020T200000
DTEND:20251020T210000
SUMMARY:Tristan's Angel's vs. Juan's Team
DESCRIPTION:Fall Volleyball 2025 - Carbondale Parks and Recreation
LOCATION:West Gym
CATEGORIES:QuickScores; Volleyball Game
TRANSP:0
DALARM:20251020T180000;PT10M;2;Tristan's Angel's vs. Juan's Team
END:VEVENT
BEGIN:VEVENT
DTSTART:20251027T200000
DTEND:20251027T210000
SUMMARY:Hit it and Quit it vs. Tristan's Angel's
DESCRIPTION:Fall Volleyball 2025 - Carbondale Parks and Recreation
LOCATION:East Gym
CATEGORIES:QuickScores; Volleyball Game
TRANSP:0
DALARM:20251027T180000;PT10M;2;Hit it and Quit it vs. Tristan's Angel's
END:VEVENT
BEGIN:VEVENT
DTSTART:20251103T190000
DTEND:20251103T200000
SUMMARY:Tristan's Angel's vs. MIG
DESCRIPTION:Fall Volleyball 2025 - Carbondale Parks and Recreation
LOCATION:West Gym
CATEGORIES:QuickScores; Volleyball Game
TRANSP:0
DALARM:20251103T170000;PT10M;2;Tristan's Angel's vs. MIG
END:VEVENT
BEGIN:VEVENT
DTSTART:20251110T190000
DTEND:20251110T200000
SUMMARY:Tristan's Angel's vs. Juan's Team
DESCRIPTION:Fall Volleyball 2025 - Carbondale Parks and Recreation
LOCATION:East Gym
CATEGORIES:QuickScores; Volleyball Game
TRANSP:0
DALARM:20251110T170000;PT10M;2;Tristan's Angel's vs. Juan's Team
END:VEVENT
BEGIN:VEVENT
DTSTART:20251117T190000
DTEND:20251117T200000
SUMMARY:Tristan's Angel's vs. MIG
DESCRIPTION:Fall Volleyball 2025 - Carbondale Parks and Recreation
LOCATION:West Gym
CATEGORIES:QuickScores; Volleyball Game
TRANSP:0
DALARM:20251117T170000;PT10M;2;Tristan's Angel's vs. MIG
END:VEVENT
BEGIN:VEVENT
DTSTART:20251124T200000
DTEND:20251124T210000
SUMMARY:Tristan's Angel's vs. Hit it and Quit it
DESCRIPTION:Fall Volleyball 2025 - Carbondale Parks and Recreation
LOCATION:West Gym
CATEGORIES:QuickScores; Volleyball Game
TRANSP:0
DALARM:20251124T180000;PT10M;2;Tristan's Angel's vs. Hit it and Quit it
END:VEVENT
BEGIN:VEVENT
DTSTART:20251201T200000
DTEND:20251201T210000
SUMMARY:Baker and the Cakes vs. Tristan's Angel's
DESCRIPTION:Fall Volleyball 2025 - Carbondale Parks and Recreation
LOCATION:East Gym
CATEGORIES:QuickScores; Volleyball Game
TRANSP:0
DALARM:20251201T180000;PT10M;2;Baker and the Cakes vs. Tristan's Angel's
END:VEVENT
BEGIN:VEVENT
DTSTART:20251208T200000
DTEND:20251208T210000
SUMMARY:[1] Tristan's Angel's vs. [4] Hit it and Quit it
DESCRIPTION:Fall Volleyball 2025 - Carbondale Parks and Recreation
LOCATION:West Gym
CATEGORIES:QuickScores; Volleyball Game
TRANSP:0
DALARM:20251208T180000;PT10M;2;[1] Tristan's Angel's vs. [4] Hit it and Quit it
END:VEVENT
BEGIN:VEVENT
DTSTART:20251215T200000
DTEND:20251215T210000
SUMMARY:[1] Tristan's Angel's vs. Winner of Game 4
DESCRIPTION:Fall Volleyball 2025 - Carbondale Parks and Recreation
LOCATION:West Gym
CATEGORIES:QuickScores; Volleyball Game
TRANSP:0
DALARM:20251215T180000;PT10M;2;[1] Tristan's Angel's vs. Winner of Game 4
END:VEVENT
END:VCALENDAR
