BEGIN:VCALENDAR
VERSION:1.0
BEGIN:VEVENT
DTSTART:20250609T183000
DTEND:20250609T193000
SUMMARY:Crushers vs. Bunt Cakes
DESCRIPTION:CoEd Softball 2025 - Carbondale Parks and Recreation
LOCATION:North Face Field
CATEGORIES:QuickScores; Softball - Adult Game
TRANSP:0
DALARM:20250609T163000;PT10M;2;Crushers vs. Bunt Cakes
END:VEVENT
BEGIN:VEVENT
DTSTART:20250617T203000
DTEND:20250617T213000
SUMMARY:Crushers vs. Roaring Fork Club
DESCRIPTION:CoEd Softball 2025 - Carbondale Parks and Recreation
LOCATION:North Face Field
CATEGORIES:QuickScores; Softball - Adult Game
TRANSP:0
DALARM:20250617T183000;PT10M;2;Crushers vs. Roaring Fork Club
END:VEVENT
BEGIN:VEVENT
DTSTART:20250624T193000
DTEND:20250624T203000
SUMMARY:RVR vs. Crushers
DESCRIPTION:CoEd Softball 2025 - Carbondale Parks and Recreation
LOCATION:North Face Field
CATEGORIES:QuickScores; Softball - Adult Game
TRANSP:0
DALARM:20250624T173000;PT10M;2;RVR vs. Crushers
END:VEVENT
BEGIN:VEVENT
DTSTART:20250701T193000
DTEND:20250701T203000
SUMMARY:Bonedale Bombers vs. Crushers
DESCRIPTION:CoEd Softball 2025 - Carbondale Parks and Recreation
LOCATION:North Face Field
CATEGORIES:QuickScores; Softball - Adult Game
TRANSP:0
DALARM:20250701T173000;PT10M;2;Bonedale Bombers vs. Crushers
END:VEVENT
BEGIN:VEVENT
DTSTART:20250707T203000
DTEND:20250707T213000
SUMMARY:Crushers vs. The Jortstops
DESCRIPTION:CoEd Softball 2025 - Carbondale Parks and Recreation
LOCATION:North Face Field
CATEGORIES:QuickScores; Softball - Adult Game
TRANSP:0
DALARM:20250707T183000;PT10M;2;Crushers vs. The Jortstops
END:VEVENT
BEGIN:VEVENT
DTSTART:20250715T193000
DTEND:20250715T203000
SUMMARY:The Romero Group vs. Crushers
DESCRIPTION:CoEd Softball 2025 - Carbondale Parks and Recreation
LOCATION:North Face Field
CATEGORIES:QuickScores; Softball - Adult Game
TRANSP:0
DALARM:20250715T173000;PT10M;2;The Romero Group vs. Crushers
END:VEVENT
BEGIN:VEVENT
DTSTART:20250721T183000
DTEND:20250721T193000
SUMMARY:Crushers vs. Pancake Batters
DESCRIPTION:CoEd Softball 2025 - Carbondale Parks and Recreation
LOCATION:North Face Field
CATEGORIES:QuickScores; Softball - Adult Game
TRANSP:0
DALARM:20250721T163000;PT10M;2;Crushers vs. Pancake Batters
END:VEVENT
BEGIN:VEVENT
DTSTART:20250728T193000
DTEND:20250728T203000
SUMMARY:Crushers vs. Slug 'N' Chug
DESCRIPTION:CoEd Softball 2025 - Carbondale Parks and Recreation
LOCATION:North Face Field
CATEGORIES:QuickScores; Softball - Adult Game
TRANSP:0
DALARM:20250728T173000;PT10M;2;Crushers vs. Slug 'N' Chug
END:VEVENT
BEGIN:VEVENT
DTSTART:20250805T203000
DTEND:20250805T213000
SUMMARY:Jaywalker Lodge vs. Crushers
DESCRIPTION:CoEd Softball 2025 - Carbondale Parks and Recreation
LOCATION:North Face Field
CATEGORIES:QuickScores; Softball - Adult Game
TRANSP:0
DALARM:20250805T183000;PT10M;2;Jaywalker Lodge vs. Crushers
END:VEVENT
BEGIN:VEVENT
DTSTART:20250812T203000
DTEND:20250812T213000
SUMMARY:KFH vs. Crushers
DESCRIPTION:CoEd Softball 2025 - Carbondale Parks and Recreation
LOCATION:North Face Field
CATEGORIES:QuickScores; Softball - Adult Game
TRANSP:0
DALARM:20250812T183000;PT10M;2;KFH vs. Crushers
END:VEVENT
BEGIN:VEVENT
DTSTART:20250818T203000
DTEND:20250818T213000
SUMMARY:Crushers vs. Fresh Trout
DESCRIPTION:CoEd Softball 2025 - Carbondale Parks and Recreation
LOCATION:North Face Field
CATEGORIES:QuickScores; Softball - Adult Game
TRANSP:0
DALARM:20250818T183000;PT10M;2;Crushers vs. Fresh Trout
END:VEVENT
BEGIN:VEVENT
DTSTART:20250902T193000
DTEND:20250902T203000
SUMMARY:[3] Crushers vs. [6] Roaring Fork Club
DESCRIPTION:CoEd Softball 2025 - Carbondale Parks and Recreation
LOCATION:North Face Field
CATEGORIES:QuickScores; Softball - Adult Game
TRANSP:0
DALARM:20250902T173000;PT10M;2;[3] Crushers vs. [6] Roaring Fork Club
END:VEVENT
BEGIN:VEVENT
DTSTART:20250902T203000
DTEND:20250902T213000
SUMMARY:[7] The Romero Group vs. [3] Crushers
DESCRIPTION:CoEd Softball 2025 - Carbondale Parks and Recreation
LOCATION:North Face Field
CATEGORIES:QuickScores; Softball - Adult Game
TRANSP:0
DALARM:20250902T183000;PT10M;2;[7] The Romero Group vs. [3] Crushers
END:VEVENT
BEGIN:VEVENT
DTSTART:20250908T203000
DTEND:20250908T213000
SUMMARY:Winner of Game 9 vs. [3] Crushers
DESCRIPTION:CoEd Softball 2025 - Carbondale Parks and Recreation
LOCATION:North Face Field
CATEGORIES:QuickScores; Softball - Adult Game
TRANSP:0
DALARM:20250908T183000;PT10M;2;Winner of Game 9 vs. [3] Crushers
END:VEVENT
END:VCALENDAR
