BEGIN:VCALENDAR
VERSION:1.0
BEGIN:VEVENT
DTSTART:20240603T190000
DTEND:20240603T200000
SUMMARY:Pitchers, Catchers, and Swingers vs. West Slope Batters
DESCRIPTION:Adult Coed Softbal 2024 - Carbondale Parks and Recreation
LOCATION:North Face Field
CATEGORIES:QuickScores; Softball - Adult Game
TRANSP:0
DALARM:20240603T170000;PT10M;2;Pitchers, Catchers, and Swingers vs. West Slope Batters
END:VEVENT
BEGIN:VEVENT
DTSTART:20240617T190000
DTEND:20240617T200000
SUMMARY:Crushers vs. Pitchers, Catchers, and Swingers
DESCRIPTION:Adult Coed Softbal 2024 - Carbondale Parks and Recreation
LOCATION:North Face Field
CATEGORIES:QuickScores; Softball - Adult Game
TRANSP:0
DALARM:20240617T170000;PT10M;2;Crushers vs. Pitchers, Catchers, and Swingers
END:VEVENT
BEGIN:VEVENT
DTSTART:20240624T180000
DTEND:20240624T190000
SUMMARY:Pitchers, Catchers, and Swingers vs. KFH
DESCRIPTION:Adult Coed Softbal 2024 - Carbondale Parks and Recreation
LOCATION:North Face Field
CATEGORIES:QuickScores; Softball - Adult Game
TRANSP:0
DALARM:20240624T160000;PT10M;2;Pitchers, Catchers, and Swingers vs. KFH
END:VEVENT
BEGIN:VEVENT
DTSTART:20240701T200000
DTEND:20240701T210000
SUMMARY:Swinging Weiners vs. Pitchers, Catchers, and Swingers
DESCRIPTION:Adult Coed Softbal 2024 - Carbondale Parks and Recreation
LOCATION:North Face Field
CATEGORIES:QuickScores; Softball - Adult Game
TRANSP:0
DALARM:20240701T180000;PT10M;2;Swinging Weiners vs. Pitchers, Catchers, and Swingers
END:VEVENT
BEGIN:VEVENT
DTSTART:20240715T210000
DTEND:20240715T220000
SUMMARY:Fresh Trout vs. Pitchers, Catchers, and Swingers
DESCRIPTION:Adult Coed Softbal 2024 - Carbondale Parks and Recreation
LOCATION:North Face Field
CATEGORIES:QuickScores; Softball - Adult Game
TRANSP:0
DALARM:20240715T190000;PT10M;2;Fresh Trout vs. Pitchers, Catchers, and Swingers
END:VEVENT
BEGIN:VEVENT
DTSTART:20240722T200000
DTEND:20240722T210000
SUMMARY:Pitchers, Catchers, and Swingers vs. Local Roots LLC
DESCRIPTION:Adult Coed Softbal 2024 - Carbondale Parks and Recreation
LOCATION:North Face Field
CATEGORIES:QuickScores; Softball - Adult Game
TRANSP:0
DALARM:20240722T180000;PT10M;2;Pitchers, Catchers, and Swingers vs. Local Roots LLC
END:VEVENT
BEGIN:VEVENT
DTSTART:20240729T180000
DTEND:20240729T190000
SUMMARY:Jaywalker Odd Sox vs. Pitchers, Catchers, and Swingers
DESCRIPTION:Adult Coed Softbal 2024 - Carbondale Parks and Recreation
LOCATION:North Face Field
CATEGORIES:QuickScores; Softball - Adult Game
TRANSP:0
DALARM:20240729T160000;PT10M;2;Jaywalker Odd Sox vs. Pitchers, Catchers, and Swingers
END:VEVENT
BEGIN:VEVENT
DTSTART:20240805T210000
DTEND:20240805T220000
SUMMARY:Pitchers, Catchers, and Swingers vs. The Jortstops
DESCRIPTION:Adult Coed Softbal 2024 - Carbondale Parks and Recreation
LOCATION:North Face Field
CATEGORIES:QuickScores; Softball - Adult Game
TRANSP:0
DALARM:20240805T190000;PT10M;2;Pitchers, Catchers, and Swingers vs. The Jortstops
END:VEVENT
BEGIN:VEVENT
DTSTART:20240812T190000
DTEND:20240812T200000
SUMMARY:Pitchers, Catchers, and Swingers vs. The Romero Group
DESCRIPTION:Adult Coed Softbal 2024 - Carbondale Parks and Recreation
LOCATION:North Face Field
CATEGORIES:QuickScores; Softball - Adult Game
TRANSP:0
DALARM:20240812T170000;PT10M;2;Pitchers, Catchers, and Swingers vs. The Romero Group
END:VEVENT
BEGIN:VEVENT
DTSTART:20240819T210000
DTEND:20240819T220000
SUMMARY:[4] Fresh Trout vs. [5] Pitchers, Catchers, and Swingers
DESCRIPTION:Adult Coed Softbal 2024 - Carbondale Parks and Recreation
LOCATION:North Face Field
CATEGORIES:QuickScores; Softball - Adult Game
TRANSP:0
DALARM:20240819T190000;PT10M;2;[4] Fresh Trout vs. [5] Pitchers, Catchers, and Swingers
END:VEVENT
END:VCALENDAR
