BEGIN:VCALENDAR
VERSION:1.0
BEGIN:VEVENT
DTSTART:20240108T190000
DTEND:20240108T200000
SUMMARY:Tiger Bomb vs. Working Title Returns
DESCRIPTION:Winter/Spring CoEd volleyball 2024 - Carbondale Parks and Recreation
LOCATION:West Gym
CATEGORIES:QuickScores; Volleyball - Adult Game
TRANSP:0
DALARM:20240108T170000;PT10M;2;Tiger Bomb vs. Working Title Returns
END:VEVENT
BEGIN:VEVENT
DTSTART:20240122T200000
DTEND:20240122T210000
SUMMARY:GWAP vs. Working Title Returns
DESCRIPTION:Winter/Spring CoEd volleyball 2024 - Carbondale Parks and Recreation
LOCATION:East Gym
CATEGORIES:QuickScores; Volleyball - Adult Game
TRANSP:0
DALARM:20240122T180000;PT10M;2;GWAP vs. Working Title Returns
END:VEVENT
BEGIN:VEVENT
DTSTART:20240129T180000
DTEND:20240129T190000
SUMMARY:ValleyBalls vs. Working Title Returns
DESCRIPTION:Winter/Spring CoEd volleyball 2024 - Carbondale Parks and Recreation
LOCATION:West Gym
CATEGORIES:QuickScores; Volleyball - Adult Game
TRANSP:0
DALARM:20240129T160000;PT10M;2;ValleyBalls vs. Working Title Returns
END:VEVENT
BEGIN:VEVENT
DTSTART:20240205T200000
DTEND:20240205T210000
SUMMARY:Tony Hawks ProTaters vs. Working Title Returns
DESCRIPTION:Winter/Spring CoEd volleyball 2024 - Carbondale Parks and Recreation
LOCATION:West Gym
CATEGORIES:QuickScores; Volleyball - Adult Game
TRANSP:0
DALARM:20240205T180000;PT10M;2;Tony Hawks ProTaters vs. Working Title Returns
END:VEVENT
BEGIN:VEVENT
DTSTART:20240212T180000
DTEND:20240212T190000
SUMMARY:Orville Redenblocker vs. Working Title Returns
DESCRIPTION:Winter/Spring CoEd volleyball 2024 - Carbondale Parks and Recreation
LOCATION:West Gym
CATEGORIES:QuickScores; Volleyball - Adult Game
TRANSP:0
DALARM:20240212T160000;PT10M;2;Orville Redenblocker vs. Working Title Returns
END:VEVENT
BEGIN:VEVENT
DTSTART:20240226T190000
DTEND:20240226T200000
SUMMARY:Working Title Returns vs. PREMARITAL SETS
DESCRIPTION:Winter/Spring CoEd volleyball 2024 - Carbondale Parks and Recreation
LOCATION:East Gym
CATEGORIES:QuickScores; Volleyball - Adult Game
TRANSP:0
DALARM:20240226T170000;PT10M;2;Working Title Returns vs. PREMARITAL SETS
END:VEVENT
BEGIN:VEVENT
DTSTART:20240311T180000
DTEND:20240311T190000
SUMMARY:Aceholes vs. Working Title Returns
DESCRIPTION:Winter/Spring CoEd volleyball 2024 - Carbondale Parks and Recreation
LOCATION:East Gym
CATEGORIES:QuickScores; Volleyball - Adult Game
TRANSP:0
DALARM:20240311T160000;PT10M;2;Aceholes vs. Working Title Returns
END:VEVENT
BEGIN:VEVENT
DTSTART:20240318T200000
DTEND:20240318T210000
SUMMARY:Working Title Returns vs. Past Our Primes
DESCRIPTION:Winter/Spring CoEd volleyball 2024 - Carbondale Parks and Recreation
LOCATION:East Gym
CATEGORIES:QuickScores; Volleyball - Adult Game
TRANSP:0
DALARM:20240318T180000;PT10M;2;Working Title Returns vs. Past Our Primes
END:VEVENT
BEGIN:VEVENT
DTSTART:20240408T190000
DTEND:20240408T200000
SUMMARY:Working Title Returns vs. Baker and the Cakes
DESCRIPTION:Winter/Spring CoEd volleyball 2024 - Carbondale Parks and Recreation
LOCATION:West Gym
CATEGORIES:QuickScores; Volleyball - Adult Game
TRANSP:0
DALARM:20240408T170000;PT10M;2;Working Title Returns vs. Baker and the Cakes
END:VEVENT
BEGIN:VEVENT
DTSTART:20240415T180000
DTEND:20240415T190000
SUMMARY:Working Title Returns vs. Juan's Team
DESCRIPTION:Winter/Spring CoEd volleyball 2024 - Carbondale Parks and Recreation
LOCATION:East Gym
CATEGORIES:QuickScores; Volleyball - Adult Game
TRANSP:0
DALARM:20240415T160000;PT10M;2;Working Title Returns vs. Juan's Team
END:VEVENT
BEGIN:VEVENT
DTSTART:20240429T190000
DTEND:20240429T200000
SUMMARY:Working Title Returns vs. Wilson's Saviors
DESCRIPTION:Winter/Spring CoEd volleyball 2024 - Carbondale Parks and Recreation
LOCATION:East Gym
CATEGORIES:QuickScores; Volleyball - Adult Game
TRANSP:0
DALARM:20240429T170000;PT10M;2;Working Title Returns vs. Wilson's Saviors
END:VEVENT
BEGIN:VEVENT
DTSTART:20240506T180000
DTEND:20240506T190000
SUMMARY:Working Title Returns vs. Life's a Beach
DESCRIPTION:Winter/Spring CoEd volleyball 2024 - Carbondale Parks and Recreation
LOCATION:West Gym
CATEGORIES:QuickScores; Volleyball - Adult Game
TRANSP:0
DALARM:20240506T160000;PT10M;2;Working Title Returns vs. Life's a Beach
END:VEVENT
BEGIN:VEVENT
DTSTART:20240513T200000
DTEND:20240513T210000
SUMMARY:[2] Working Title Returns vs. [7] PREMARITAL SETS
DESCRIPTION:Winter/Spring CoEd volleyball 2024 - Carbondale Parks and Recreation
LOCATION:East Gym
CATEGORIES:QuickScores; Volleyball - Adult Game
TRANSP:0
DALARM:20240513T180000;PT10M;2;[2] Working Title Returns vs. [7] PREMARITAL SETS
END:VEVENT
BEGIN:VEVENT
DTSTART:20240520T190000
DTEND:20240520T200000
SUMMARY:[2] Working Title Returns vs. Winner of Game 8
DESCRIPTION:Winter/Spring CoEd volleyball 2024 - Carbondale Parks and Recreation
LOCATION:West Gym
CATEGORIES:QuickScores; Volleyball - Adult Game
TRANSP:0
DALARM:20240520T170000;PT10M;2;[2] Working Title Returns vs. Winner of Game 8
END:VEVENT
END:VCALENDAR
