BEGIN:VCALENDAR
VERSION:1.0
BEGIN:VEVENT
DTSTART:20240108T200000
DTEND:20240108T210000
SUMMARY:Life's a Beach vs. Tony Hawks ProTaters
DESCRIPTION:Winter/Spring CoEd volleyball 2024 - Carbondale Parks and Recreation
LOCATION:East Gym
CATEGORIES:QuickScores; Volleyball - Adult Game
TRANSP:0
DALARM:20240108T180000;PT10M;2;Life's a Beach vs. Tony Hawks ProTaters
END:VEVENT
BEGIN:VEVENT
DTSTART:20240122T200000
DTEND:20240122T210000
SUMMARY:Juan's Team vs. Tony Hawks ProTaters
DESCRIPTION:Winter/Spring CoEd volleyball 2024 - Carbondale Parks and Recreation
LOCATION:West Gym
CATEGORIES:QuickScores; Volleyball - Adult Game
TRANSP:0
DALARM:20240122T180000;PT10M;2;Juan's Team vs. Tony Hawks ProTaters
END:VEVENT
BEGIN:VEVENT
DTSTART:20240129T190000
DTEND:20240129T200000
SUMMARY:Wilson's Saviors vs. Tony Hawks ProTaters
DESCRIPTION:Winter/Spring CoEd volleyball 2024 - Carbondale Parks and Recreation
LOCATION:West Gym
CATEGORIES:QuickScores; Volleyball - Adult Game
TRANSP:0
DALARM:20240129T170000;PT10M;2;Wilson's Saviors vs. Tony Hawks ProTaters
END:VEVENT
BEGIN:VEVENT
DTSTART:20240205T200000
DTEND:20240205T210000
SUMMARY:Tony Hawks ProTaters vs. Working Title Returns
DESCRIPTION:Winter/Spring CoEd volleyball 2024 - Carbondale Parks and Recreation
LOCATION:West Gym
CATEGORIES:QuickScores; Volleyball - Adult Game
TRANSP:0
DALARM:20240205T180000;PT10M;2;Tony Hawks ProTaters vs. Working Title Returns
END:VEVENT
BEGIN:VEVENT
DTSTART:20240212T180000
DTEND:20240212T190000
SUMMARY:Baker and the Cakes vs. Tony Hawks ProTaters
DESCRIPTION:Winter/Spring CoEd volleyball 2024 - Carbondale Parks and Recreation
LOCATION:East Gym
CATEGORIES:QuickScores; Volleyball - Adult Game
TRANSP:0
DALARM:20240212T160000;PT10M;2;Baker and the Cakes vs. Tony Hawks ProTaters
END:VEVENT
BEGIN:VEVENT
DTSTART:20240226T200000
DTEND:20240226T210000
SUMMARY:Tony Hawks ProTaters vs. Aceholes
DESCRIPTION:Winter/Spring CoEd volleyball 2024 - Carbondale Parks and Recreation
LOCATION:East Gym
CATEGORIES:QuickScores; Volleyball - Adult Game
TRANSP:0
DALARM:20240226T180000;PT10M;2;Tony Hawks ProTaters vs. Aceholes
END:VEVENT
BEGIN:VEVENT
DTSTART:20240311T180000
DTEND:20240311T190000
SUMMARY:Past Our Primes vs. Tony Hawks ProTaters
DESCRIPTION:Winter/Spring CoEd volleyball 2024 - Carbondale Parks and Recreation
LOCATION:West Gym
CATEGORIES:QuickScores; Volleyball - Adult Game
TRANSP:0
DALARM:20240311T160000;PT10M;2;Past Our Primes vs. Tony Hawks ProTaters
END:VEVENT
BEGIN:VEVENT
DTSTART:20240318T200000
DTEND:20240318T210000
SUMMARY:Tony Hawks ProTaters vs. Orville Redenblocker
DESCRIPTION:Winter/Spring CoEd volleyball 2024 - Carbondale Parks and Recreation
LOCATION:West Gym
CATEGORIES:QuickScores; Volleyball - Adult Game
TRANSP:0
DALARM:20240318T180000;PT10M;2;Tony Hawks ProTaters vs. Orville Redenblocker
END:VEVENT
BEGIN:VEVENT
DTSTART:20240401T190000
DTEND:20240401T200000
SUMMARY:PREMARITAL SETS vs. Tony Hawks ProTaters
DESCRIPTION:Winter/Spring CoEd volleyball 2024 - Carbondale Parks and Recreation
LOCATION:West Gym
CATEGORIES:QuickScores; Volleyball - Adult Game
TRANSP:0
DALARM:20240401T170000;PT10M;2;PREMARITAL SETS vs. Tony Hawks ProTaters
END:VEVENT
BEGIN:VEVENT
DTSTART:20240408T190000
DTEND:20240408T200000
SUMMARY:Tony Hawks ProTaters vs. ValleyBalls
DESCRIPTION:Winter/Spring CoEd volleyball 2024 - Carbondale Parks and Recreation
LOCATION:East Gym
CATEGORIES:QuickScores; Volleyball - Adult Game
TRANSP:0
DALARM:20240408T170000;PT10M;2;Tony Hawks ProTaters vs. ValleyBalls
END:VEVENT
BEGIN:VEVENT
DTSTART:20240429T180000
DTEND:20240429T190000
SUMMARY:Tony Hawks ProTaters vs. Tiger Bomb
DESCRIPTION:Winter/Spring CoEd volleyball 2024 - Carbondale Parks and Recreation
LOCATION:West Gym
CATEGORIES:QuickScores; Volleyball - Adult Game
TRANSP:0
DALARM:20240429T160000;PT10M;2;Tony Hawks ProTaters vs. Tiger Bomb
END:VEVENT
BEGIN:VEVENT
DTSTART:20240506T180000
DTEND:20240506T190000
SUMMARY:Tony Hawks ProTaters vs. GWAP
DESCRIPTION:Winter/Spring CoEd volleyball 2024 - Carbondale Parks and Recreation
LOCATION:East Gym
CATEGORIES:QuickScores; Volleyball - Adult Game
TRANSP:0
DALARM:20240506T160000;PT10M;2;Tony Hawks ProTaters vs. GWAP
END:VEVENT
BEGIN:VEVENT
DTSTART:20240520T180000
DTEND:20240520T190000
SUMMARY:[4] Tony Hawks ProTaters vs. [5] Tiger Bomb
DESCRIPTION:Winter/Spring CoEd volleyball 2024 - Carbondale Parks and Recreation
LOCATION:East Gym
CATEGORIES:QuickScores; Volleyball - Adult Game
TRANSP:0
DALARM:20240520T160000;PT10M;2;[4] Tony Hawks ProTaters vs. [5] Tiger Bomb
END:VEVENT
END:VCALENDAR
