BEGIN:VCALENDAR
VERSION:1.0
BEGIN:VEVENT
DTSTART:20240108T180000
DTEND:20240108T190000
SUMMARY:Baker and the Cakes vs. Past Our Primes
DESCRIPTION:Winter/Spring CoEd volleyball 2024 - Carbondale Parks and Recreation
LOCATION:East Gym
CATEGORIES:QuickScores; Volleyball - Adult Game
TRANSP:0
DALARM:20240108T160000;PT10M;2;Baker and the Cakes vs. Past Our Primes
END:VEVENT
BEGIN:VEVENT
DTSTART:20240129T190000
DTEND:20240129T200000
SUMMARY:Baker and the Cakes vs. PREMARITAL SETS
DESCRIPTION:Winter/Spring CoEd volleyball 2024 - Carbondale Parks and Recreation
LOCATION:East Gym
CATEGORIES:QuickScores; Volleyball - Adult Game
TRANSP:0
DALARM:20240129T170000;PT10M;2;Baker and the Cakes vs. PREMARITAL SETS
END:VEVENT
BEGIN:VEVENT
DTSTART:20240205T180000
DTEND:20240205T190000
SUMMARY:Wilson's Saviors vs. Baker and the Cakes
DESCRIPTION:Winter/Spring CoEd volleyball 2024 - Carbondale Parks and Recreation
LOCATION:East Gym
CATEGORIES:QuickScores; Volleyball - Adult Game
TRANSP:0
DALARM:20240205T160000;PT10M;2;Wilson's Saviors vs. Baker and the Cakes
END:VEVENT
BEGIN:VEVENT
DTSTART:20240212T180000
DTEND:20240212T190000
SUMMARY:Baker and the Cakes vs. Tony Hawks ProTaters
DESCRIPTION:Winter/Spring CoEd volleyball 2024 - Carbondale Parks and Recreation
LOCATION:East Gym
CATEGORIES:QuickScores; Volleyball - Adult Game
TRANSP:0
DALARM:20240212T160000;PT10M;2;Baker and the Cakes vs. Tony Hawks ProTaters
END:VEVENT
BEGIN:VEVENT
DTSTART:20240226T180000
DTEND:20240226T190000
SUMMARY:Life's a Beach vs. Baker and the Cakes
DESCRIPTION:Winter/Spring CoEd volleyball 2024 - Carbondale Parks and Recreation
LOCATION:West Gym
CATEGORIES:QuickScores; Volleyball - Adult Game
TRANSP:0
DALARM:20240226T160000;PT10M;2;Life's a Beach vs. Baker and the Cakes
END:VEVENT
BEGIN:VEVENT
DTSTART:20240311T190000
DTEND:20240311T200000
SUMMARY:Baker and the Cakes vs. GWAP
DESCRIPTION:Winter/Spring CoEd volleyball 2024 - Carbondale Parks and Recreation
LOCATION:West Gym
CATEGORIES:QuickScores; Volleyball - Adult Game
TRANSP:0
DALARM:20240311T170000;PT10M;2;Baker and the Cakes vs. GWAP
END:VEVENT
BEGIN:VEVENT
DTSTART:20240318T190000
DTEND:20240318T200000
SUMMARY:Juan's Team vs. Baker and the Cakes
DESCRIPTION:Winter/Spring CoEd volleyball 2024 - Carbondale Parks and Recreation
LOCATION:East Gym
CATEGORIES:QuickScores; Volleyball - Adult Game
TRANSP:0
DALARM:20240318T170000;PT10M;2;Juan's Team vs. Baker and the Cakes
END:VEVENT
BEGIN:VEVENT
DTSTART:20240401T200000
DTEND:20240401T210000
SUMMARY:Baker and the Cakes vs. Tiger Bomb
DESCRIPTION:Winter/Spring CoEd volleyball 2024 - Carbondale Parks and Recreation
LOCATION:East Gym
CATEGORIES:QuickScores; Volleyball - Adult Game
TRANSP:0
DALARM:20240401T180000;PT10M;2;Baker and the Cakes vs. Tiger Bomb
END:VEVENT
BEGIN:VEVENT
DTSTART:20240408T190000
DTEND:20240408T200000
SUMMARY:Working Title Returns vs. Baker and the Cakes
DESCRIPTION:Winter/Spring CoEd volleyball 2024 - Carbondale Parks and Recreation
LOCATION:West Gym
CATEGORIES:QuickScores; Volleyball - Adult Game
TRANSP:0
DALARM:20240408T170000;PT10M;2;Working Title Returns vs. Baker and the Cakes
END:VEVENT
BEGIN:VEVENT
DTSTART:20240415T200000
DTEND:20240415T210000
SUMMARY:Baker and the Cakes vs. ValleyBalls
DESCRIPTION:Winter/Spring CoEd volleyball 2024 - Carbondale Parks and Recreation
LOCATION:West Gym
CATEGORIES:QuickScores; Volleyball - Adult Game
TRANSP:0
DALARM:20240415T180000;PT10M;2;Baker and the Cakes vs. ValleyBalls
END:VEVENT
BEGIN:VEVENT
DTSTART:20240429T200000
DTEND:20240429T210000
SUMMARY:Aceholes vs. Baker and the Cakes
DESCRIPTION:Winter/Spring CoEd volleyball 2024 - Carbondale Parks and Recreation
LOCATION:East Gym
CATEGORIES:QuickScores; Volleyball - Adult Game
TRANSP:0
DALARM:20240429T180000;PT10M;2;Aceholes vs. Baker and the Cakes
END:VEVENT
BEGIN:VEVENT
DTSTART:20240506T200000
DTEND:20240506T210000
SUMMARY:Orville Redenblocker vs. Baker and the Cakes
DESCRIPTION:Winter/Spring CoEd volleyball 2024 - Carbondale Parks and Recreation
LOCATION:West Gym
CATEGORIES:QuickScores; Volleyball - Adult Game
TRANSP:0
DALARM:20240506T180000;PT10M;2;Orville Redenblocker vs. Baker and the Cakes
END:VEVENT
BEGIN:VEVENT
DTSTART:20240513T180000
DTEND:20240513T190000
SUMMARY:[6] Baker and the Cakes vs. [11] Orville Redenblocker
DESCRIPTION:Winter/Spring CoEd volleyball 2024 - Carbondale Parks and Recreation
LOCATION:East Gym
CATEGORIES:QuickScores; Volleyball - Adult Game
TRANSP:0
DALARM:20240513T160000;PT10M;2;[6] Baker and the Cakes vs. [11] Orville Redenblocker
END:VEVENT
BEGIN:VEVENT
DTSTART:20240520T180000
DTEND:20240520T190000
SUMMARY:[3] Juan's Team vs. [6] Baker and the Cakes
DESCRIPTION:Winter/Spring CoEd volleyball 2024 - Carbondale Parks and Recreation
LOCATION:West Gym
CATEGORIES:QuickScores; Volleyball - Adult Game
TRANSP:0
DALARM:20240520T160000;PT10M;2;[3] Juan's Team vs. [6] Baker and the Cakes
END:VEVENT
END:VCALENDAR
