BEGIN:VCALENDAR
VERSION:1.0
BEGIN:VEVENT
DTSTART:20230206T180000
DTEND:20230206T190000
SUMMARY:Tiger Bomb vs. Human Targets
DESCRIPTION:Winter Spring Volleyball 2023 - Carbondale Parks and Recreation
LOCATION:West Gym
CATEGORIES:QuickScores; Volleyball - Adult Game
TRANSP:0
DALARM:20230206T160000;PT10M;2;Tiger Bomb vs. Human Targets
END:VEVENT
BEGIN:VEVENT
DTSTART:20230213T200000
DTEND:20230213T210000
SUMMARY:Baker and the Cakes vs. Human Targets
DESCRIPTION:Winter Spring Volleyball 2023 - Carbondale Parks and Recreation
LOCATION:West Gym
CATEGORIES:QuickScores; Volleyball - Adult Game
TRANSP:0
DALARM:20230213T180000;PT10M;2;Baker and the Cakes vs. Human Targets
END:VEVENT
BEGIN:VEVENT
DTSTART:20230227T190000
DTEND:20230227T200000
SUMMARY:Human Targets vs. Orville Redenblocker
DESCRIPTION:Winter Spring Volleyball 2023 - Carbondale Parks and Recreation
LOCATION:West Gym
CATEGORIES:QuickScores; Volleyball - Adult Game
TRANSP:0
DALARM:20230227T170000;PT10M;2;Human Targets vs. Orville Redenblocker
END:VEVENT
BEGIN:VEVENT
DTSTART:20230306T190000
DTEND:20230306T200000
SUMMARY:Human Targets vs. WAP and Associates
DESCRIPTION:Winter Spring Volleyball 2023 - Carbondale Parks and Recreation
LOCATION:West Gym
CATEGORIES:QuickScores; Volleyball - Adult Game
TRANSP:0
DALARM:20230306T170000;PT10M;2;Human Targets vs. WAP and Associates
END:VEVENT
BEGIN:VEVENT
DTSTART:20230313T190000
DTEND:20230313T200000
SUMMARY:Human Targets vs. Sets on the Beach
DESCRIPTION:Winter Spring Volleyball 2023 - Carbondale Parks and Recreation
LOCATION:East Gym
CATEGORIES:QuickScores; Volleyball - Adult Game
TRANSP:0
DALARM:20230313T170000;PT10M;2;Human Targets vs. Sets on the Beach
END:VEVENT
BEGIN:VEVENT
DTSTART:20230320T200000
DTEND:20230320T210000
SUMMARY:PREMARITAL SETS vs. Human Targets
DESCRIPTION:Winter Spring Volleyball 2023 - Carbondale Parks and Recreation
LOCATION:East Gym
CATEGORIES:QuickScores; Volleyball - Adult Game
TRANSP:0
DALARM:20230320T180000;PT10M;2;PREMARITAL SETS vs. Human Targets
END:VEVENT
BEGIN:VEVENT
DTSTART:20230403T180000
DTEND:20230403T190000
SUMMARY:Wld Hrts Cnt b Broken vs. Human Targets
DESCRIPTION:Winter Spring Volleyball 2023 - Carbondale Parks and Recreation
LOCATION:West Gym
CATEGORIES:QuickScores; Volleyball - Adult Game
TRANSP:0
DALARM:20230403T160000;PT10M;2;Wld Hrts Cnt b Broken vs. Human Targets
END:VEVENT
BEGIN:VEVENT
DTSTART:20230410T180000
DTEND:20230410T190000
SUMMARY:Human Targets vs. Working Title
DESCRIPTION:Winter Spring Volleyball 2023 - Carbondale Parks and Recreation
LOCATION:East Gym
CATEGORIES:QuickScores; Volleyball - Adult Game
TRANSP:0
DALARM:20230410T160000;PT10M;2;Human Targets vs. Working Title
END:VEVENT
BEGIN:VEVENT
DTSTART:20230417T200000
DTEND:20230417T210000
SUMMARY:Get High vs. Human Targets
DESCRIPTION:Winter Spring Volleyball 2023 - Carbondale Parks and Recreation
LOCATION:East Gym
CATEGORIES:QuickScores; Volleyball - Adult Game
TRANSP:0
DALARM:20230417T180000;PT10M;2;Get High vs. Human Targets
END:VEVENT
BEGIN:VEVENT
DTSTART:20230424T200000
DTEND:20230424T210000
SUMMARY:Juan's Team vs. Human Targets
DESCRIPTION:Winter Spring Volleyball 2023 - Carbondale Parks and Recreation
LOCATION:West Gym
CATEGORIES:QuickScores; Volleyball - Adult Game
TRANSP:0
DALARM:20230424T180000;PT10M;2;Juan's Team vs. Human Targets
END:VEVENT
BEGIN:VEVENT
DTSTART:20230501T190000
DTEND:20230501T200000
SUMMARY:Human Targets vs. The Taternators
DESCRIPTION:Winter Spring Volleyball 2023 - Carbondale Parks and Recreation
LOCATION:East Gym
CATEGORIES:QuickScores; Volleyball - Adult Game
TRANSP:0
DALARM:20230501T170000;PT10M;2;Human Targets vs. The Taternators
END:VEVENT
BEGIN:VEVENT
DTSTART:20230508T180000
DTEND:20230508T190000
SUMMARY:[5] The Taternators vs. [12] Human Targets
DESCRIPTION:Winter Spring Volleyball 2023 - Carbondale Parks and Recreation
LOCATION:East Gym
CATEGORIES:QuickScores; Volleyball - Adult Game
TRANSP:0
DALARM:20230508T160000;PT10M;2;[5] The Taternators vs. [12] Human Targets
END:VEVENT
END:VCALENDAR
