BEGIN:VCALENDAR
VERSION:1.0
BEGIN:VEVENT
DTSTART:20230104T200000
DTEND:20230104T210000
SUMMARY:Off on the Ice vs. Baker and the Cakes on Ice
DESCRIPTION:Broomball 2023 - Carbondale Parks and Recreation
LOCATION:Gus Darien Ice Arena
CATEGORIES:QuickScores; Broomball Game
TRANSP:0
DALARM:20230104T180000;PT10M;2;Off on the Ice vs. Baker and the Cakes on Ice
END:VEVENT
BEGIN:VEVENT
DTSTART:20230111T180000
DTEND:20230111T190000
SUMMARY:Team Orange vs. Baker and the Cakes on Ice
DESCRIPTION:Broomball 2023 - Carbondale Parks and Recreation
LOCATION:Gus Darien Ice Arena
CATEGORIES:QuickScores; Broomball Game
TRANSP:0
DALARM:20230111T160000;PT10M;2;Team Orange vs. Baker and the Cakes on Ice
END:VEVENT
BEGIN:VEVENT
DTSTART:20230118T180000
DTEND:20230118T190000
SUMMARY:Baker and the Cakes on Ice vs. Super Weenie Hut Broomers
DESCRIPTION:Broomball 2023 - Carbondale Parks and Recreation
LOCATION:Gus Darien Ice Arena
CATEGORIES:QuickScores; Broomball Game
TRANSP:0
DALARM:20230118T160000;PT10M;2;Baker and the Cakes on Ice vs. Super Weenie Hut Broomers
END:VEVENT
BEGIN:VEVENT
DTSTART:20230125T190000
DTEND:20230125T200000
SUMMARY:Baker and the Cakes on Ice vs. Down Valley DYLFS
DESCRIPTION:Broomball 2023 - Carbondale Parks and Recreation
LOCATION:Gus Darien Ice Arena
CATEGORIES:QuickScores; Broomball Game
TRANSP:0
DALARM:20230125T170000;PT10M;2;Baker and the Cakes on Ice vs. Down Valley DYLFS
END:VEVENT
BEGIN:VEVENT
DTSTART:20230201T190000
DTEND:20230201T200000
SUMMARY:Baker and the Cakes on Ice vs. Broom Pirates
DESCRIPTION:Broomball 2023 - Carbondale Parks and Recreation
LOCATION:Gus Darien Ice Arena
CATEGORIES:QuickScores; Broomball Game
TRANSP:0
DALARM:20230201T170000;PT10M;2;Baker and the Cakes on Ice vs. Broom Pirates
END:VEVENT
BEGIN:VEVENT
DTSTART:20230208T190000
DTEND:20230208T200000
SUMMARY:[3] Team Orange vs. [6] Baker and the Cakes on Ice
DESCRIPTION:Broomball 2023 - Carbondale Parks and Recreation
LOCATION:Gus Darien Ice Arena
CATEGORIES:QuickScores; Broomball Game
TRANSP:0
DALARM:20230208T170000;PT10M;2;[3] Team Orange vs. [6] Baker and the Cakes on Ice
END:VEVENT
BEGIN:VEVENT
DTSTART:20230215T190000
DTEND:20230215T200000
SUMMARY:[2] Down Valley DYLFS vs. [6] Baker and the Cakes on Ice
DESCRIPTION:Broomball 2023 - Carbondale Parks and Recreation
LOCATION:Gus Darien Ice Arena
CATEGORIES:QuickScores; Broomball Game
TRANSP:0
DALARM:20230215T170000;PT10M;2;[2] Down Valley DYLFS vs. [6] Baker and the Cakes on Ice
END:VEVENT
END:VCALENDAR
