BEGIN:VCALENDAR
VERSION:1.0
BEGIN:VEVENT
DTSTART:20230923T090000
DTEND:20230923T100000
SUMMARY:mustangs vs. packers
DESCRIPTION:jv - 
LOCATION:BC Field 2
CATEGORIES:QuickScores; Football Game
TRANSP:0
DALARM:20230923T070000;PT10M;2;mustangs vs. packers
END:VEVENT
BEGIN:VEVENT
DTSTART:20230930T090000
DTEND:20230930T100000
SUMMARY:Wolverines vs. packers
DESCRIPTION:jv - 
LOCATION:BC Field 2
CATEGORIES:QuickScores; Football Game
TRANSP:0
DALARM:20230930T070000;PT10M;2;Wolverines vs. packers
END:VEVENT
BEGIN:VEVENT
DTSTART:20231007T103000
DTEND:20231007T113000
SUMMARY:packers vs. Wildcats
DESCRIPTION:jv - 
LOCATION:BC Field 2
CATEGORIES:QuickScores; Football Game
TRANSP:0
DALARM:20231007T083000;PT10M;2;packers vs. Wildcats
END:VEVENT
BEGIN:VEVENT
DTSTART:20231014T120000
DTEND:20231014T130000
SUMMARY:packers vs. Texoma Dawgs
DESCRIPTION:jv - 
LOCATION:BC Field 2
CATEGORIES:QuickScores; Football Game
TRANSP:0
DALARM:20231014T100000;PT10M;2;packers vs. Texoma Dawgs
END:VEVENT
BEGIN:VEVENT
DTSTART:20231021T103000
DTEND:20231021T113000
SUMMARY:Coyotes vs. packers
DESCRIPTION:jv - 
LOCATION:BC Field 2
CATEGORIES:QuickScores; Football Game
TRANSP:0
DALARM:20231021T083000;PT10M;2;Coyotes vs. packers
END:VEVENT
BEGIN:VEVENT
DTSTART:20231030T170000
DTEND:20231030T180000
SUMMARY:packers vs. mustangs
DESCRIPTION:jv - 
LOCATION:BC Field 2
CATEGORIES:QuickScores; Football Game
TRANSP:0
DALARM:20231030T150000;PT10M;2;packers vs. mustangs
END:VEVENT
BEGIN:VEVENT
DTSTART:20231111T090000
DTEND:20231111T100000
SUMMARY:[1] packers vs. [4] Texoma Dawgs
DESCRIPTION:jv - 
LOCATION:BC Field 2
CATEGORIES:QuickScores; Football Game
TRANSP:0
DALARM:20231111T070000;PT10M;2;[1] packers vs. [4] Texoma Dawgs
END:VEVENT
BEGIN:VEVENT
DTSTART:20231118T090000
DTEND:20231118T100000
SUMMARY:[1] packers vs. [2] mustangs
DESCRIPTION:jv - 
LOCATION:City View High School (Veterans' Field)
CATEGORIES:QuickScores; Football Game
TRANSP:0
DALARM:20231118T070000;PT10M;2;[1] packers vs. [2] mustangs
END:VEVENT
END:VCALENDAR
