BEGIN:VCALENDAR
VERSION:1.0
BEGIN:VEVENT
DTSTART:20210417T143000
DTEND:20210417T153000
SUMMARY:CREW vs. PRIDE
DESCRIPTION:LEFT MIDDLE FRONT --- 2021 VARSITY SOCCER - Brunswick County Parks & Recreation
LOCATION:O.I.B. PARK VARSITY #2
CATEGORIES:QuickScores; Soccer - Youth Game
TRANSP:0
DALARM:20210417T123000;PT10M;2;CREW vs. PRIDE
END:VEVENT
BEGIN:VEVENT
DTSTART:20210424T143000
DTEND:20210424T153000
SUMMARY:COBRAS vs. CREW
DESCRIPTION:RIGHT BACK --- 2021 VARSITY SOCCER - Brunswick County Parks & Recreation
LOCATION:O.I.B. PARK VARSITY #1
CATEGORIES:QuickScores; Soccer - Youth Game
TRANSP:0
DALARM:20210424T123000;PT10M;2;COBRAS vs. CREW
END:VEVENT
BEGIN:VEVENT
DTSTART:20210501T143000
DTEND:20210501T153000
SUMMARY:MENACE vs. CREW
DESCRIPTION:RIGHT BACK --- 2021 VARSITY SOCCER - Brunswick County Parks & Recreation
LOCATION:O.I.B. PARK VARSITY #1
CATEGORIES:QuickScores; Soccer - Youth Game
TRANSP:0
DALARM:20210501T123000;PT10M;2;MENACE vs. CREW
END:VEVENT
BEGIN:VEVENT
DTSTART:20210508T143000
DTEND:20210508T153000
SUMMARY:CREW vs. GALAXY
DESCRIPTION:RIGHT BACK --- 2021 VARSITY SOCCER - Brunswick County Parks & Recreation
LOCATION:O.I.B. PARK VARSITY #2
CATEGORIES:QuickScores; Soccer - Youth Game
TRANSP:0
DALARM:20210508T123000;PT10M;2;CREW vs. GALAXY
END:VEVENT
BEGIN:VEVENT
DTSTART:20210515T143000
DTEND:20210515T153000
SUMMARY:DYNAMO vs. CREW
DESCRIPTION:FRONT OF PARK --- 2021 VARSITY SOCCER - Brunswick County Parks & Recreation
LOCATION:SMITHVILLE PARK VARSITY #1
CATEGORIES:QuickScores; Soccer - Youth Game
TRANSP:0
DALARM:20210515T123000;PT10M;2;DYNAMO vs. CREW
END:VEVENT
BEGIN:VEVENT
DTSTART:20210522T160000
DTEND:20210522T170000
SUMMARY:CREW vs. WARRIORS
DESCRIPTION:FRONT OF PARK --- 2021 VARSITY SOCCER - Brunswick County Parks & Recreation
LOCATION:SMITHVILLE PARK VARSITY #1
CATEGORIES:QuickScores; Soccer - Youth Game
TRANSP:0
DALARM:20210522T140000;PT10M;2;CREW vs. WARRIORS
END:VEVENT
BEGIN:VEVENT
DTSTART:20210529T143000
DTEND:20210529T153000
SUMMARY:CREW vs. FIRE
DESCRIPTION:LEFT MIDDLE FRONT --- 2021 VARSITY SOCCER - Brunswick County Parks & Recreation
LOCATION:O.I.B. PARK VARSITY #1
CATEGORIES:QuickScores; Soccer - Youth Game
TRANSP:0
DALARM:20210529T123000;PT10M;2;CREW vs. FIRE
END:VEVENT
BEGIN:VEVENT
DTSTART:20210612T160000
DTEND:20210612T170000
SUMMARY:MUTINY vs. CREW
DESCRIPTION:ON LIGHTED FIELD --- 2021 VARSITY SOCCER - Brunswick County Parks & Recreation
LOCATION:NORTHWEST PARK VARSITY #1
CATEGORIES:QuickScores; Soccer - Youth Game
TRANSP:0
DALARM:20210612T140000;PT10M;2;MUTINY vs. CREW
END:VEVENT
END:VCALENDAR
