BEGIN:VCALENDAR
VERSION:1.0
BEGIN:VEVENT
DTSTART:20210417T143000
DTEND:20210417T153000
SUMMARY:WARRIORS vs. GALAXY
DESCRIPTION:FRONT OF PARK --- 2021 VARSITY SOCCER - Brunswick County Parks & Recreation
LOCATION:SMITHVILLE PARK VARSITY #2
CATEGORIES:QuickScores; Soccer - Youth Game
TRANSP:0
DALARM:20210417T123000;PT10M;2;WARRIORS vs. GALAXY
END:VEVENT
BEGIN:VEVENT
DTSTART:20210424T143000
DTEND:20210424T153000
SUMMARY:FIRE vs. WARRIORS
DESCRIPTION:MIDDLE FIELD OF PARK-FIRE DOUBLE HEADER --- 2021 VARSITY SOCCER - Brunswick County Parks & Recreation
LOCATION:NORTHWEST PARK VARSITY #2
CATEGORIES:QuickScores; Soccer - Youth Game
TRANSP:0
DALARM:20210424T123000;PT10M;2;FIRE vs. WARRIORS
END:VEVENT
BEGIN:VEVENT
DTSTART:20210501T143000
DTEND:20210501T153000
SUMMARY:COBRAS vs. WARRIORS
DESCRIPTION:LEFT MIDDLE FRONT --- 2021 VARSITY SOCCER - Brunswick County Parks & Recreation
LOCATION:O.I.B. PARK VARSITY #2
CATEGORIES:QuickScores; Soccer - Youth Game
TRANSP:0
DALARM:20210501T123000;PT10M;2;COBRAS vs. WARRIORS
END:VEVENT
BEGIN:VEVENT
DTSTART:20210508T143000
DTEND:20210508T153000
SUMMARY:WARRIORS vs. MUTINY
DESCRIPTION:FRONT OF PARK --- 2021 VARSITY SOCCER - Brunswick County Parks & Recreation
LOCATION:SMITHVILLE PARK VARSITY #1
CATEGORIES:QuickScores; Soccer - Youth Game
TRANSP:0
DALARM:20210508T123000;PT10M;2;WARRIORS vs. MUTINY
END:VEVENT
BEGIN:VEVENT
DTSTART:20210515T143000
DTEND:20210515T153000
SUMMARY:PRIDE vs. WARRIORS
DESCRIPTION:LEFT MIDDLE FRONT --- 2021 VARSITY SOCCER - Brunswick County Parks & Recreation
LOCATION:O.I.B. PARK VARSITY #1
CATEGORIES:QuickScores; Soccer - Youth Game
TRANSP:0
DALARM:20210515T123000;PT10M;2;PRIDE vs. WARRIORS
END:VEVENT
BEGIN:VEVENT
DTSTART:20210522T160000
DTEND:20210522T170000
SUMMARY:CREW vs. WARRIORS
DESCRIPTION:FRONT OF PARK --- 2021 VARSITY SOCCER - Brunswick County Parks & Recreation
LOCATION:SMITHVILLE PARK VARSITY #1
CATEGORIES:QuickScores; Soccer - Youth Game
TRANSP:0
DALARM:20210522T140000;PT10M;2;CREW vs. WARRIORS
END:VEVENT
BEGIN:VEVENT
DTSTART:20210529T160000
DTEND:20210529T170000
SUMMARY:WARRIORS vs. MENACE
DESCRIPTION:FRONT OF PARK --- 2021 VARSITY SOCCER - Brunswick County Parks & Recreation
LOCATION:SMITHVILLE PARK VARSITY #1
CATEGORIES:QuickScores; Soccer - Youth Game
TRANSP:0
DALARM:20210529T140000;PT10M;2;WARRIORS vs. MENACE
END:VEVENT
BEGIN:VEVENT
DTSTART:20210612T143000
DTEND:20210612T153000
SUMMARY:WARRIORS vs. CELTICS
DESCRIPTION:ON LIGHTED FIELD --- 2021 VARSITY SOCCER - Brunswick County Parks & Recreation
LOCATION:NORTHWEST PARK VARSITY #1
CATEGORIES:QuickScores; Soccer - Youth Game
TRANSP:0
DALARM:20210612T123000;PT10M;2;WARRIORS vs. CELTICS
END:VEVENT
END:VCALENDAR
