BEGIN:VCALENDAR
VERSION:1.0
BEGIN:VEVENT
DTSTART:20190928T110000
DTEND:20190928T120000
SUMMARY:SOUTH STRIKERS vs. SOUTH SKYHAWKS
DESCRIPTION:2019 FALL BRUNSWICK COUNTY SOUTH ROOKIE YOUTH SOCCER - Brunswick County Parks & Recreation
LOCATION:SMITHVILLE PARK ROOKIE FIELD #1
CATEGORIES:QuickScores; Soccer - Youth Game
TRANSP:0
DALARM:20190928T090000;PT10M;2;SOUTH STRIKERS vs. SOUTH SKYHAWKS
END:VEVENT
BEGIN:VEVENT
DTSTART:20191005T100000
DTEND:20191005T110000
SUMMARY:SOUTH SKYHAWKS vs. SOUTH SPARTANS
DESCRIPTION:2019 FALL BRUNSWICK COUNTY SOUTH ROOKIE YOUTH SOCCER - Brunswick County Parks & Recreation
LOCATION:SMITHVILLE PARK ROOKIE FIELD #1
CATEGORIES:QuickScores; Soccer - Youth Game
TRANSP:0
DALARM:20191005T080000;PT10M;2;SOUTH SKYHAWKS vs. SOUTH SPARTANS
END:VEVENT
BEGIN:VEVENT
DTSTART:20191012T110000
DTEND:20191012T120000
SUMMARY:SOUTH UNITED vs. SOUTH SKYHAWKS
DESCRIPTION:2019 FALL BRUNSWICK COUNTY SOUTH ROOKIE YOUTH SOCCER - Brunswick County Parks & Recreation
LOCATION:SMITHVILLE PARK ROOKIE FIELD #1
CATEGORIES:QuickScores; Soccer - Youth Game
TRANSP:0
DALARM:20191012T090000;PT10M;2;SOUTH UNITED vs. SOUTH SKYHAWKS
END:VEVENT
BEGIN:VEVENT
DTSTART:20191019T110000
DTEND:20191019T120000
SUMMARY:SOUTH SKYHAWKS vs. SOUTH BLIZZARD
DESCRIPTION:2019 FALL BRUNSWICK COUNTY SOUTH ROOKIE YOUTH SOCCER - Brunswick County Parks & Recreation
LOCATION:SMITHVILLE PARK ROOKIE FIELD #1
CATEGORIES:QuickScores; Soccer - Youth Game
TRANSP:0
DALARM:20191019T090000;PT10M;2;SOUTH SKYHAWKS vs. SOUTH BLIZZARD
END:VEVENT
BEGIN:VEVENT
DTSTART:20191026T110000
DTEND:20191026T120000
SUMMARY:SOUTH SPARTANS vs. SOUTH SKYHAWKS
DESCRIPTION:2019 FALL BRUNSWICK COUNTY SOUTH ROOKIE YOUTH SOCCER - Brunswick County Parks & Recreation
LOCATION:SMITHVILLE PARK ROOKIE FIELD #1
CATEGORIES:QuickScores; Soccer - Youth Game
TRANSP:0
DALARM:20191026T090000;PT10M;2;SOUTH SPARTANS vs. SOUTH SKYHAWKS
END:VEVENT
BEGIN:VEVENT
DTSTART:20191102T100000
DTEND:20191102T110000
SUMMARY:SOUTH UNITED vs. SOUTH SKYHAWKS
DESCRIPTION:2019 FALL BRUNSWICK COUNTY SOUTH ROOKIE YOUTH SOCCER - Brunswick County Parks & Recreation
LOCATION:SMITHVILLE PARK ROOKIE FIELD #1
CATEGORIES:QuickScores; Soccer - Youth Game
TRANSP:0
DALARM:20191102T080000;PT10M;2;SOUTH UNITED vs. SOUTH SKYHAWKS
END:VEVENT
BEGIN:VEVENT
DTSTART:20191102T110000
DTEND:20191102T120000
SUMMARY:SOUTH SKYHAWKS vs. SOUTH STRIKERS
DESCRIPTION:2019 FALL BRUNSWICK COUNTY SOUTH ROOKIE YOUTH SOCCER - Brunswick County Parks & Recreation
LOCATION:SMITHVILLE PARK ROOKIE FIELD #2
CATEGORIES:QuickScores; Soccer - Youth Game
TRANSP:0
DALARM:20191102T090000;PT10M;2;SOUTH SKYHAWKS vs. SOUTH STRIKERS
END:VEVENT
END:VCALENDAR
