BEGIN:VCALENDAR
VERSION:1.0
BEGIN:VEVENT
DTSTART:20190406T100000
DTEND:20190406T110000
SUMMARY:SOUTH RAILHAWKS vs. SOUTH LIONS
DESCRIPTION:SOUTH LIL' KICKS SPRING SOCCER (PRE-K & KINDERGARTEN) - Brunswick County Parks & Recreation
LOCATION:SMITHVILLE PARK - LIL' KICKS 1
CATEGORIES:QuickScores; Soccer - Youth Game
TRANSP:0
DALARM:20190406T080000;PT10M;2;SOUTH RAILHAWKS vs. SOUTH LIONS
END:VEVENT
BEGIN:VEVENT
DTSTART:20190413T090000
DTEND:20190413T100000
SUMMARY:SOUTH SKY vs. SOUTH LIONS
DESCRIPTION:SOUTH LIL' KICKS SPRING SOCCER (PRE-K & KINDERGARTEN) - Brunswick County Parks & Recreation
LOCATION:SMITHVILLE PARK - LIL' KICKS 2
CATEGORIES:QuickScores; Soccer - Youth Game
TRANSP:0
DALARM:20190413T070000;PT10M;2;SOUTH SKY vs. SOUTH LIONS
END:VEVENT
BEGIN:VEVENT
DTSTART:20190420T090000
DTEND:20190420T100000
SUMMARY:SOUTH LIONS vs. SOUTH REBELLION
DESCRIPTION:SOUTH LIL' KICKS SPRING SOCCER (PRE-K & KINDERGARTEN) - Brunswick County Parks & Recreation
LOCATION:SMITHVILLE PARK - LIL' KICKS 1
CATEGORIES:QuickScores; Soccer - Youth Game
TRANSP:0
DALARM:20190420T070000;PT10M;2;SOUTH LIONS vs. SOUTH REBELLION
END:VEVENT
BEGIN:VEVENT
DTSTART:20190427T100000
DTEND:20190427T110000
SUMMARY:SOUTH LIONS vs. SOUTH PIRATES
DESCRIPTION:SOUTH LIL' KICKS SPRING SOCCER (PRE-K & KINDERGARTEN) - Brunswick County Parks & Recreation
LOCATION:SMITHVILLE PARK - LIL' KICKS 1
CATEGORIES:QuickScores; Soccer - Youth Game
TRANSP:0
DALARM:20190427T080000;PT10M;2;SOUTH LIONS vs. SOUTH PIRATES
END:VEVENT
BEGIN:VEVENT
DTSTART:20190504T100000
DTEND:20190504T110000
SUMMARY:SOUTH RAMPAGE vs. SOUTH LIONS
DESCRIPTION:SOUTH LIL' KICKS SPRING SOCCER (PRE-K & KINDERGARTEN) - Brunswick County Parks & Recreation
LOCATION:SMITHVILLE PARK - LIL' KICKS 1
CATEGORIES:QuickScores; Soccer - Youth Game
TRANSP:0
DALARM:20190504T080000;PT10M;2;SOUTH RAMPAGE vs. SOUTH LIONS
END:VEVENT
BEGIN:VEVENT
DTSTART:20190511T090000
DTEND:20190511T100000
SUMMARY:SOUTH LIONS vs. SOUTH RAILHAWKS
DESCRIPTION:SOUTH LIL' KICKS SPRING SOCCER (PRE-K & KINDERGARTEN) - Brunswick County Parks & Recreation
LOCATION:SMITHVILLE PARK - LIL' KICKS 1
CATEGORIES:QuickScores; Soccer - Youth Game
TRANSP:0
DALARM:20190511T070000;PT10M;2;SOUTH LIONS vs. SOUTH RAILHAWKS
END:VEVENT
BEGIN:VEVENT
DTSTART:20190518T100000
DTEND:20190518T110000
SUMMARY:SOUTH LIONS vs. SOUTH SKY
DESCRIPTION:SOUTH LIL' KICKS SPRING SOCCER (PRE-K & KINDERGARTEN) - Brunswick County Parks & Recreation
LOCATION:SMITHVILLE PARK - LIL' KICKS 1
CATEGORIES:QuickScores; Soccer - Youth Game
TRANSP:0
DALARM:20190518T080000;PT10M;2;SOUTH LIONS vs. SOUTH SKY
END:VEVENT
BEGIN:VEVENT
DTSTART:20190525T090000
DTEND:20190525T100000
SUMMARY:SOUTH REBELLION vs. SOUTH LIONS
DESCRIPTION:SOUTH LIL' KICKS SPRING SOCCER (PRE-K & KINDERGARTEN) - Brunswick County Parks & Recreation
LOCATION:SMITHVILLE PARK - LIL' KICKS 2
CATEGORIES:QuickScores; Soccer - Youth Game
TRANSP:0
DALARM:20190525T070000;PT10M;2;SOUTH REBELLION vs. SOUTH LIONS
END:VEVENT
END:VCALENDAR
