BEGIN:VCALENDAR
VERSION:1.0
BEGIN:VEVENT
DTSTART:20190112T100000
DTEND:20190112T110000
SUMMARY:CENTRAL CAVS vs. CENTRAL SKYFORCE
DESCRIPTION:(3RD & 4TH GRADE) JUNIOR VARSITY - CENTRAL & WEST - Brunswick County Parks & Recreation
LOCATION:CEDAR GROVE MIDDLE SCHOOL
CATEGORIES:QuickScores; Basketball - Youth Game
TRANSP:0
DALARM:20190112T080000;PT10M;2;CENTRAL CAVS vs. CENTRAL SKYFORCE
END:VEVENT
BEGIN:VEVENT
DTSTART:20190126T100000
DTEND:20190126T110000
SUMMARY:CENTRAL CAVS vs. WEST GRIZZLIES
DESCRIPTION:(3RD & 4TH GRADE) JUNIOR VARSITY - CENTRAL & WEST - Brunswick County Parks & Recreation
LOCATION:SHALLOTTE MIDDLE SCHOOL
CATEGORIES:QuickScores; Basketball - Youth Game
TRANSP:0
DALARM:20190126T080000;PT10M;2;CENTRAL CAVS vs. WEST GRIZZLIES
END:VEVENT
BEGIN:VEVENT
DTSTART:20190202T100000
DTEND:20190202T110000
SUMMARY:WEST CELTICS vs. CENTRAL CAVS
DESCRIPTION:(3RD & 4TH GRADE) JUNIOR VARSITY - CENTRAL & WEST - Brunswick County Parks & Recreation
LOCATION:SHALLOTTE MIDDLE SCHOOL
CATEGORIES:QuickScores; Basketball - Youth Game
TRANSP:0
DALARM:20190202T080000;PT10M;2;WEST CELTICS vs. CENTRAL CAVS
END:VEVENT
BEGIN:VEVENT
DTSTART:20190209T110000
DTEND:20190209T120000
SUMMARY:WEST TROJANS vs. CENTRAL CAVS
DESCRIPTION:(3RD & 4TH GRADE) JUNIOR VARSITY - CENTRAL & WEST - Brunswick County Parks & Recreation
LOCATION:WACCAMAW SCHOOL
CATEGORIES:QuickScores; Basketball - Youth Game
TRANSP:0
DALARM:20190209T090000;PT10M;2;WEST TROJANS vs. CENTRAL CAVS
END:VEVENT
BEGIN:VEVENT
DTSTART:20190209T120000
DTEND:20190209T130000
SUMMARY:CENTRAL CAVS vs. WEST TROJANS
DESCRIPTION:(3RD & 4TH GRADE) JUNIOR VARSITY - CENTRAL & WEST - Brunswick County Parks & Recreation
LOCATION:WACCAMAW SCHOOL
CATEGORIES:QuickScores; Basketball - Youth Game
TRANSP:0
DALARM:20190209T100000;PT10M;2;CENTRAL CAVS vs. WEST TROJANS
END:VEVENT
BEGIN:VEVENT
DTSTART:20190216T100000
DTEND:20190216T110000
SUMMARY:WEST GRIZZLIES vs. CENTRAL CAVS
DESCRIPTION:(3RD & 4TH GRADE) JUNIOR VARSITY - CENTRAL & WEST - Brunswick County Parks & Recreation
LOCATION:SHALLOTTE MIDDLE SCHOOL
CATEGORIES:QuickScores; Basketball - Youth Game
TRANSP:0
DALARM:20190216T080000;PT10M;2;WEST GRIZZLIES vs. CENTRAL CAVS
END:VEVENT
BEGIN:VEVENT
DTSTART:20190223T100000
DTEND:20190223T110000
SUMMARY:CENTRAL CAVS vs. WEST CELTICS
DESCRIPTION:(3RD & 4TH GRADE) JUNIOR VARSITY - CENTRAL & WEST - Brunswick County Parks & Recreation
LOCATION:SHALLOTTE MIDDLE SCHOOL
CATEGORIES:QuickScores; Basketball - Youth Game
TRANSP:0
DALARM:20190223T080000;PT10M;2;CENTRAL CAVS vs. WEST CELTICS
END:VEVENT
BEGIN:VEVENT
DTSTART:20190302T120000
DTEND:20190302T130000
SUMMARY:CENTRAL SKYFORCE vs. CENTRAL CAVS
DESCRIPTION:(3RD & 4TH GRADE) JUNIOR VARSITY - CENTRAL & WEST - Brunswick County Parks & Recreation
LOCATION:CEDAR GROVE MIDDLE SCHOOL
CATEGORIES:QuickScores; Basketball - Youth Game
TRANSP:0
DALARM:20190302T100000;PT10M;2;CENTRAL SKYFORCE vs. CENTRAL CAVS
END:VEVENT
END:VCALENDAR
