BEGIN:VCALENDAR
VERSION:1.0
BEGIN:VEVENT
DTSTART:20181006T100000
DTEND:20181006T110000
SUMMARY:SOUTH SKYHAWKS vs. SOUTH STRIKERS
DESCRIPTION:SOUTH ROOKIES (1ST & 2ND GRADE) - Brunswick County Parks & Recreation
LOCATION:SMITHVILLE PARK ROOKIE FIELD #1
CATEGORIES:QuickScores; Soccer - Youth Game
TRANSP:0
DALARM:20181006T080000;PT10M;2;SOUTH SKYHAWKS vs. SOUTH STRIKERS
END:VEVENT
BEGIN:VEVENT
DTSTART:20181013T100000
DTEND:20181013T110000
SUMMARY:SOUTH SPARTANS vs. SOUTH SKYHAWKS
DESCRIPTION:SOUTH ROOKIES (1ST & 2ND GRADE) - Brunswick County Parks & Recreation
LOCATION:SMITHVILLE PARK ROOKIE FIELD #2
CATEGORIES:QuickScores; Soccer - Youth Game
TRANSP:0
DALARM:20181013T080000;PT10M;2;SOUTH SPARTANS vs. SOUTH SKYHAWKS
END:VEVENT
BEGIN:VEVENT
DTSTART:20181020T100000
DTEND:20181020T110000
SUMMARY:SOUTH UNITED vs. SOUTH SKYHAWKS
DESCRIPTION:SOUTH ROOKIES (1ST & 2ND GRADE) - Brunswick County Parks & Recreation
LOCATION:SMITHVILLE PARK ROOKIE FIELD #1
CATEGORIES:QuickScores; Soccer - Youth Game
TRANSP:0
DALARM:20181020T080000;PT10M;2;SOUTH UNITED vs. SOUTH SKYHAWKS
END:VEVENT
BEGIN:VEVENT
DTSTART:20181027T100000
DTEND:20181027T110000
SUMMARY:SOUTH STRIKERS vs. SOUTH SKYHAWKS
DESCRIPTION:SOUTH ROOKIES (1ST & 2ND GRADE) - Brunswick County Parks & Recreation
LOCATION:SMITHVILLE PARK ROOKIE FIELD #2
CATEGORIES:QuickScores; Soccer - Youth Game
TRANSP:0
DALARM:20181027T080000;PT10M;2;SOUTH STRIKERS vs. SOUTH SKYHAWKS
END:VEVENT
BEGIN:VEVENT
DTSTART:20181103T100000
DTEND:20181103T110000
SUMMARY:SOUTH SKYHAWKS vs. SOUTH SPARTANS
DESCRIPTION:SOUTH ROOKIES (1ST & 2ND GRADE) - Brunswick County Parks & Recreation
LOCATION:SMITHVILLE PARK ROOKIE FIELD #2
CATEGORIES:QuickScores; Soccer - Youth Game
TRANSP:0
DALARM:20181103T080000;PT10M;2;SOUTH SKYHAWKS vs. SOUTH SPARTANS
END:VEVENT
BEGIN:VEVENT
DTSTART:20181110T100000
DTEND:20181110T110000
SUMMARY:SOUTH SKYHAWKS vs. SOUTH UNITED
DESCRIPTION:SOUTH ROOKIES (1ST & 2ND GRADE) - Brunswick County Parks & Recreation
LOCATION:SMITHVILLE PARK ROOKIE FIELD #2
CATEGORIES:QuickScores; Soccer - Youth Game
TRANSP:0
DALARM:20181110T080000;PT10M;2;SOUTH SKYHAWKS vs. SOUTH UNITED
END:VEVENT
BEGIN:VEVENT
DTSTART:20181117T100000
DTEND:20181117T110000
SUMMARY:SOUTH SKYHAWKS vs. SOUTH STRIKERS
DESCRIPTION:SOUTH ROOKIES (1ST & 2ND GRADE) - Brunswick County Parks & Recreation
LOCATION:SMITHVILLE PARK ROOKIE FIELD #2
CATEGORIES:QuickScores; Soccer - Youth Game
TRANSP:0
DALARM:20181117T080000;PT10M;2;SOUTH SKYHAWKS vs. SOUTH STRIKERS
END:VEVENT
END:VCALENDAR
