BEGIN:VCALENDAR
VERSION:1.0
BEGIN:VEVENT
DTSTART:20260411T110000
DTEND:20260411T120000
SUMMARY:WEST WOLFPACK vs. CENTRAL SHOCK
DESCRIPTION:CENTRAL - WEST J.V. BOYS [3RD-4TH GRADE] - Brunswick County Parks & Recreation
LOCATION:CEDAR GROVE PARK J.V. #1
CATEGORIES:QuickScores; Soccer - Youth Game
TRANSP:0
DALARM:20260411T090000;PT10M;2;WEST WOLFPACK vs. CENTRAL SHOCK
END:VEVENT
BEGIN:VEVENT
DTSTART:20260425T110000
DTEND:20260425T120000
SUMMARY:WEST WOLFPACK vs. WEST PHOENIX
DESCRIPTION:CENTRAL - WEST J.V. BOYS [3RD-4TH GRADE] - Brunswick County Parks & Recreation
LOCATION:O.I.B. PARK J.V. #1
CATEGORIES:QuickScores; Soccer - Youth Game
TRANSP:0
DALARM:20260425T090000;PT10M;2;WEST WOLFPACK vs. WEST PHOENIX
END:VEVENT
BEGIN:VEVENT
DTSTART:20260502T120000
DTEND:20260502T130000
SUMMARY:WEST TAR HEELS vs. WEST WOLFPACK
DESCRIPTION:CENTRAL - WEST J.V. BOYS [3RD-4TH GRADE] - Brunswick County Parks & Recreation
LOCATION:O.I.B. PARK J.V. #2
CATEGORIES:QuickScores; Soccer - Youth Game
TRANSP:0
DALARM:20260502T100000;PT10M;2;WEST TAR HEELS vs. WEST WOLFPACK
END:VEVENT
BEGIN:VEVENT
DTSTART:20260509T100000
DTEND:20260509T110000
SUMMARY:WEST WOLFPACK vs. WEST COMETS
DESCRIPTION:CENTRAL - WEST J.V. BOYS [3RD-4TH GRADE] - Brunswick County Parks & Recreation
LOCATION:O.I.B. PARK J.V. #1
CATEGORIES:QuickScores; Soccer - Youth Game
TRANSP:0
DALARM:20260509T080000;PT10M;2;WEST WOLFPACK vs. WEST COMETS
END:VEVENT
BEGIN:VEVENT
DTSTART:20260516T120000
DTEND:20260516T130000
SUMMARY:CENTRAL SHOCK vs. WEST WOLFPACK
DESCRIPTION:CENTRAL - WEST J.V. BOYS [3RD-4TH GRADE] - Brunswick County Parks & Recreation
LOCATION:O.I.B. PARK J.V. #1
CATEGORIES:QuickScores; Soccer - Youth Game
TRANSP:0
DALARM:20260516T100000;PT10M;2;CENTRAL SHOCK vs. WEST WOLFPACK
END:VEVENT
BEGIN:VEVENT
DTSTART:20260530T110000
DTEND:20260530T120000
SUMMARY:WEST PHOENIX vs. WEST WOLFPACK
DESCRIPTION:CENTRAL - WEST J.V. BOYS [3RD-4TH GRADE] - Brunswick County Parks & Recreation
LOCATION:O.I.B. PARK J.V. #1
CATEGORIES:QuickScores; Soccer - Youth Game
TRANSP:0
DALARM:20260530T090000;PT10M;2;WEST PHOENIX vs. WEST WOLFPACK
END:VEVENT
END:VCALENDAR
