BEGIN:VCALENDAR
VERSION:1.0
BEGIN:VEVENT
DTSTART:20250406T140000
DTEND:20250406T150000
SUMMARY:WEST TIDES vs. WEST CARDINALS
DESCRIPTION:DISTRICT IX DIXIE BELLES & DEBS SOFTBALL - BRUNSWICK COUNTY - Brunswick County Parks & Recreation
LOCATION:LOCKWOOD FOLLY #3
CATEGORIES:QuickScores; Softball - Fastpitch Game
TRANSP:0
DALARM:20250406T120000;PT10M;2;WEST TIDES vs. WEST CARDINALS
END:VEVENT
BEGIN:VEVENT
DTSTART:20250406T154500
DTEND:20250406T164500
SUMMARY:WEST CARDINALS vs. WEST TIDES
DESCRIPTION:DISTRICT IX DIXIE BELLES & DEBS SOFTBALL - BRUNSWICK COUNTY - Brunswick County Parks & Recreation
LOCATION:LOCKWOOD FOLLY #3
CATEGORIES:QuickScores; Softball - Fastpitch Game
TRANSP:0
DALARM:20250406T134500;PT10M;2;WEST CARDINALS vs. WEST TIDES
END:VEVENT
BEGIN:VEVENT
DTSTART:20250413T140000
DTEND:20250413T150000
SUMMARY:SOUTH SHARKS vs. WEST TIDES
DESCRIPTION:DISTRICT IX DIXIE BELLES & DEBS SOFTBALL - BRUNSWICK COUNTY - Brunswick County Parks & Recreation
LOCATION:TOWN CREEK PARK FIELD #3
CATEGORIES:QuickScores; Softball - Fastpitch Game
TRANSP:0
DALARM:20250413T120000;PT10M;2;SOUTH SHARKS vs. WEST TIDES
END:VEVENT
BEGIN:VEVENT
DTSTART:20250413T154500
DTEND:20250413T164500
SUMMARY:WEST TIDES vs. SOUTH SHARKS
DESCRIPTION:DISTRICT IX DIXIE BELLES & DEBS SOFTBALL - BRUNSWICK COUNTY - Brunswick County Parks & Recreation
LOCATION:TOWN CREEK PARK FIELD #3
CATEGORIES:QuickScores; Softball - Fastpitch Game
TRANSP:0
DALARM:20250413T134500;PT10M;2;WEST TIDES vs. SOUTH SHARKS
END:VEVENT
BEGIN:VEVENT
DTSTART:20250420T140000
DTEND:20250420T150000
SUMMARY:WEST TIDES vs. WEST CARDINALS
DESCRIPTION:Played 5/22/25 --- DISTRICT IX DIXIE BELLES & DEBS SOFTBALL - BRUNSWICK COUNTY - Brunswick County Parks & Recreation
LOCATION:LOCKWOOD FOLLY #3
CATEGORIES:QuickScores; Softball - Fastpitch Game
TRANSP:0
DALARM:20250420T120000;PT10M;2;WEST TIDES vs. WEST CARDINALS
END:VEVENT
BEGIN:VEVENT
DTSTART:20250420T173000
DTEND:20250420T183000
SUMMARY:WEST MUSTANGS vs. WEST TIDES
DESCRIPTION:Played 5/22/25 --- DISTRICT IX DIXIE BELLES & DEBS SOFTBALL - BRUNSWICK COUNTY - Brunswick County Parks & Recreation
LOCATION:LOCKWOOD FOLLY #3
CATEGORIES:QuickScores; Softball - Fastpitch Game
TRANSP:0
DALARM:20250420T153000;PT10M;2;WEST MUSTANGS vs. WEST TIDES
END:VEVENT
BEGIN:VEVENT
DTSTART:20250427T140000
DTEND:20250427T150000
SUMMARY:WEST MUSTANGS vs. WEST TIDES
DESCRIPTION:DISTRICT IX DIXIE BELLES & DEBS SOFTBALL - BRUNSWICK COUNTY - Brunswick County Parks & Recreation
LOCATION:LOCKWOOD FOLLY #3
CATEGORIES:QuickScores; Softball - Fastpitch Game
TRANSP:0
DALARM:20250427T120000;PT10M;2;WEST MUSTANGS vs. WEST TIDES
END:VEVENT
BEGIN:VEVENT
DTSTART:20250427T154500
DTEND:20250427T164500
SUMMARY:WEST TIDES vs. WEST MUSTANGS
DESCRIPTION:DISTRICT IX DIXIE BELLES & DEBS SOFTBALL - BRUNSWICK COUNTY - Brunswick County Parks & Recreation
LOCATION:LOCKWOOD FOLLY #3
CATEGORIES:QuickScores; Softball - Fastpitch Game
TRANSP:0
DALARM:20250427T134500;PT10M;2;WEST TIDES vs. WEST MUSTANGS
END:VEVENT
BEGIN:VEVENT
DTSTART:20250504T140000
DTEND:20250504T150000
SUMMARY:WEST TIDES vs. NORTH DODGERS
DESCRIPTION:RAINED OUT --- DISTRICT IX DIXIE BELLES & DEBS SOFTBALL - BRUNSWICK COUNTY - Brunswick County Parks & Recreation
LOCATION:LOCKWOOD FOLLY #3
CATEGORIES:QuickScores; Softball - Fastpitch Game
TRANSP:0
DALARM:20250504T120000;PT10M;2;WEST TIDES vs. NORTH DODGERS
END:VEVENT
BEGIN:VEVENT
DTSTART:20250504T154500
DTEND:20250504T164500
SUMMARY:NORTH DODGERS vs. WEST TIDES
DESCRIPTION:RAINED OUT --- DISTRICT IX DIXIE BELLES & DEBS SOFTBALL - BRUNSWICK COUNTY - Brunswick County Parks & Recreation
LOCATION:LOCKWOOD FOLLY #3
CATEGORIES:QuickScores; Softball - Fastpitch Game
TRANSP:0
DALARM:20250504T134500;PT10M;2;NORTH DODGERS vs. WEST TIDES
END:VEVENT
BEGIN:VEVENT
DTSTART:20250511T140000
DTEND:20250511T150000
SUMMARY:WEST TIDES vs. NORTH RIPTIDE
DESCRIPTION:RAINED OUT --- DISTRICT IX DIXIE BELLES & DEBS SOFTBALL - BRUNSWICK COUNTY - Brunswick County Parks & Recreation
LOCATION:TOWN CREEK PARK FIELD #3
CATEGORIES:QuickScores; Softball - Fastpitch Game
TRANSP:0
DALARM:20250511T120000;PT10M;2;WEST TIDES vs. NORTH RIPTIDE
END:VEVENT
BEGIN:VEVENT
DTSTART:20250511T154500
DTEND:20250511T164500
SUMMARY:NORTH RIPTIDE vs. WEST TIDES
DESCRIPTION:RAINED OUT --- DISTRICT IX DIXIE BELLES & DEBS SOFTBALL - BRUNSWICK COUNTY - Brunswick County Parks & Recreation
LOCATION:TOWN CREEK PARK FIELD #3
CATEGORIES:QuickScores; Softball - Fastpitch Game
TRANSP:0
DALARM:20250511T134500;PT10M;2;NORTH RIPTIDE vs. WEST TIDES
END:VEVENT
BEGIN:VEVENT
DTSTART:20250518T140000
DTEND:20250518T150000
SUMMARY:WEST CARDINALS vs. WEST TIDES
DESCRIPTION:DISTRICT IX DIXIE BELLES & DEBS SOFTBALL - BRUNSWICK COUNTY - Brunswick County Parks & Recreation
LOCATION:LOCKWOOD FOLLY #3
CATEGORIES:QuickScores; Softball - Fastpitch Game
TRANSP:0
DALARM:20250518T120000;PT10M;2;WEST CARDINALS vs. WEST TIDES
END:VEVENT
BEGIN:VEVENT
DTSTART:20250518T154500
DTEND:20250518T164500
SUMMARY:WEST TIDES vs. WEST CARDINALS
DESCRIPTION:DISTRICT IX DIXIE BELLES & DEBS SOFTBALL - BRUNSWICK COUNTY - Brunswick County Parks & Recreation
LOCATION:LOCKWOOD FOLLY #3
CATEGORIES:QuickScores; Softball - Fastpitch Game
TRANSP:0
DALARM:20250518T134500;PT10M;2;WEST TIDES vs. WEST CARDINALS
END:VEVENT
BEGIN:VEVENT
DTSTART:20250525T140000
DTEND:20250525T150000
SUMMARY:WEST TIDES vs. SOUTH SHARKS
DESCRIPTION:DISTRICT IX DIXIE BELLES & DEBS SOFTBALL - BRUNSWICK COUNTY - Brunswick County Parks & Recreation
LOCATION:LOCKWOOD FOLLY #3
CATEGORIES:QuickScores; Softball - Fastpitch Game
TRANSP:0
DALARM:20250525T120000;PT10M;2;WEST TIDES vs. SOUTH SHARKS
END:VEVENT
BEGIN:VEVENT
DTSTART:20250525T154500
DTEND:20250525T164500
SUMMARY:SOUTH SHARKS vs. WEST TIDES
DESCRIPTION:DISTRICT IX DIXIE BELLES & DEBS SOFTBALL - BRUNSWICK COUNTY - Brunswick County Parks & Recreation
LOCATION:LOCKWOOD FOLLY #3
CATEGORIES:QuickScores; Softball - Fastpitch Game
TRANSP:0
DALARM:20250525T134500;PT10M;2;SOUTH SHARKS vs. WEST TIDES
END:VEVENT
END:VCALENDAR
