BEGIN:VCALENDAR
VERSION:1.0
BEGIN:VEVENT
DTSTART:20240907T110000
DTEND:20240907T120000
SUMMARY:WEST DREAM vs. WEST QUAKES
DESCRIPTION:WEST ROOKIES [1ST&2ND GRADES] - Brunswick County Parks & Recreation
LOCATION:OIB PARK ROOKIE #2
CATEGORIES:QuickScores; Soccer - Youth Game
TRANSP:0
DALARM:20240907T090000;PT10M;2;WEST DREAM vs. WEST QUAKES
END:VEVENT
BEGIN:VEVENT
DTSTART:20240921T120000
DTEND:20240921T130000
SUMMARY:WEST DREAM vs. WEST BEARCATS
DESCRIPTION:WEST ROOKIES [1ST&2ND GRADES] - Brunswick County Parks & Recreation
LOCATION:OIB PARK ROOKIE #1
CATEGORIES:QuickScores; Soccer - Youth Game
TRANSP:0
DALARM:20240921T100000;PT10M;2;WEST DREAM vs. WEST BEARCATS
END:VEVENT
BEGIN:VEVENT
DTSTART:20240928T110000
DTEND:20240928T120000
SUMMARY:WEST HUSKIES vs. WEST DREAM
DESCRIPTION:WEST ROOKIES [1ST&2ND GRADES] - Brunswick County Parks & Recreation
LOCATION:OIB PARK ROOKIE #1
CATEGORIES:QuickScores; Soccer - Youth Game
TRANSP:0
DALARM:20240928T090000;PT10M;2;WEST HUSKIES vs. WEST DREAM
END:VEVENT
BEGIN:VEVENT
DTSTART:20241005T120000
DTEND:20241005T130000
SUMMARY:WEST DREAM vs. WEST TROJANS
DESCRIPTION:WEST ROOKIES [1ST&2ND GRADES] - Brunswick County Parks & Recreation
LOCATION:OIB PARK ROOKIE #2
CATEGORIES:QuickScores; Soccer - Youth Game
TRANSP:0
DALARM:20241005T100000;PT10M;2;WEST DREAM vs. WEST TROJANS
END:VEVENT
BEGIN:VEVENT
DTSTART:20241012T120000
DTEND:20241012T130000
SUMMARY:WEST BANDITS vs. WEST DREAM
DESCRIPTION:WEST ROOKIES [1ST&2ND GRADES] - Brunswick County Parks & Recreation
LOCATION:OIB PARK ROOKIE #1
CATEGORIES:QuickScores; Soccer - Youth Game
TRANSP:0
DALARM:20241012T100000;PT10M;2;WEST BANDITS vs. WEST DREAM
END:VEVENT
BEGIN:VEVENT
DTSTART:20241019T110000
DTEND:20241019T120000
SUMMARY:WEST STEER vs. WEST DREAM
DESCRIPTION:WEST ROOKIES [1ST&2ND GRADES] - Brunswick County Parks & Recreation
LOCATION:OIB PARK ROOKIE #1
CATEGORIES:QuickScores; Soccer - Youth Game
TRANSP:0
DALARM:20241019T090000;PT10M;2;WEST STEER vs. WEST DREAM
END:VEVENT
BEGIN:VEVENT
DTSTART:20241026T110000
DTEND:20241026T120000
SUMMARY:WEST QUAKES vs. WEST DREAM
DESCRIPTION:WEST ROOKIES [1ST&2ND GRADES] - Brunswick County Parks & Recreation
LOCATION:OIB PARK ROOKIE #2
CATEGORIES:QuickScores; Soccer - Youth Game
TRANSP:0
DALARM:20241026T090000;PT10M;2;WEST QUAKES vs. WEST DREAM
END:VEVENT
BEGIN:VEVENT
DTSTART:20241102T120000
DTEND:20241102T130000
SUMMARY:WEST DREAM vs. WEST SPARX
DESCRIPTION:WEST ROOKIES [1ST&2ND GRADES] - Brunswick County Parks & Recreation
LOCATION:OIB PARK ROOKIE #2
CATEGORIES:QuickScores; Soccer - Youth Game
TRANSP:0
DALARM:20241102T100000;PT10M;2;WEST DREAM vs. WEST SPARX
END:VEVENT
END:VCALENDAR
