BEGIN:VCALENDAR
VERSION:1.0
BEGIN:VEVENT
DTSTART:20240907T110000
DTEND:20240907T120000
SUMMARY:WEST TROJANS vs. WEST BANDITS
DESCRIPTION:WEST ROOKIES [1ST&2ND GRADES] - Brunswick County Parks & Recreation
LOCATION:OIB PARK ROOKIE #1
CATEGORIES:QuickScores; Soccer - Youth Game
TRANSP:0
DALARM:20240907T090000;PT10M;2;WEST TROJANS vs. WEST BANDITS
END:VEVENT
BEGIN:VEVENT
DTSTART:20240921T110000
DTEND:20240921T120000
SUMMARY:WEST TROJANS vs. WEST HUSKIES
DESCRIPTION:WEST ROOKIES [1ST&2ND GRADES] - Brunswick County Parks & Recreation
LOCATION:OIB PARK ROOKIE #1
CATEGORIES:QuickScores; Soccer - Youth Game
TRANSP:0
DALARM:20240921T090000;PT10M;2;WEST TROJANS vs. WEST HUSKIES
END:VEVENT
BEGIN:VEVENT
DTSTART:20240928T110000
DTEND:20240928T120000
SUMMARY:WEST TROJANS vs. WEST SPARX
DESCRIPTION:WEST ROOKIES [1ST&2ND GRADES] - Brunswick County Parks & Recreation
LOCATION:OIB PARK ROOKIE #2
CATEGORIES:QuickScores; Soccer - Youth Game
TRANSP:0
DALARM:20240928T090000;PT10M;2;WEST TROJANS vs. WEST SPARX
END:VEVENT
BEGIN:VEVENT
DTSTART:20241005T120000
DTEND:20241005T130000
SUMMARY:WEST DREAM vs. WEST TROJANS
DESCRIPTION:WEST ROOKIES [1ST&2ND GRADES] - Brunswick County Parks & Recreation
LOCATION:OIB PARK ROOKIE #2
CATEGORIES:QuickScores; Soccer - Youth Game
TRANSP:0
DALARM:20241005T100000;PT10M;2;WEST DREAM vs. WEST TROJANS
END:VEVENT
BEGIN:VEVENT
DTSTART:20241012T110000
DTEND:20241012T120000
SUMMARY:WEST BEARCATS vs. WEST TROJANS
DESCRIPTION:WEST ROOKIES [1ST&2ND GRADES] - Brunswick County Parks & Recreation
LOCATION:OIB PARK ROOKIE #2
CATEGORIES:QuickScores; Soccer - Youth Game
TRANSP:0
DALARM:20241012T090000;PT10M;2;WEST BEARCATS vs. WEST TROJANS
END:VEVENT
BEGIN:VEVENT
DTSTART:20241019T120000
DTEND:20241019T130000
SUMMARY:WEST QUAKES vs. WEST TROJANS
DESCRIPTION:WEST ROOKIES [1ST&2ND GRADES] - Brunswick County Parks & Recreation
LOCATION:OIB PARK ROOKIE #1
CATEGORIES:QuickScores; Soccer - Youth Game
TRANSP:0
DALARM:20241019T100000;PT10M;2;WEST QUAKES vs. WEST TROJANS
END:VEVENT
BEGIN:VEVENT
DTSTART:20241026T120000
DTEND:20241026T130000
SUMMARY:WEST BANDITS vs. WEST TROJANS
DESCRIPTION:WEST ROOKIES [1ST&2ND GRADES] - Brunswick County Parks & Recreation
LOCATION:OIB PARK ROOKIE #1
CATEGORIES:QuickScores; Soccer - Youth Game
TRANSP:0
DALARM:20241026T100000;PT10M;2;WEST BANDITS vs. WEST TROJANS
END:VEVENT
BEGIN:VEVENT
DTSTART:20241102T110000
DTEND:20241102T120000
SUMMARY:WEST TROJANS vs. WEST STEER
DESCRIPTION:WEST ROOKIES [1ST&2ND GRADES] - Brunswick County Parks & Recreation
LOCATION:OIB PARK ROOKIE #2
CATEGORIES:QuickScores; Soccer - Youth Game
TRANSP:0
DALARM:20241102T090000;PT10M;2;WEST TROJANS vs. WEST STEER
END:VEVENT
END:VCALENDAR
