BEGIN:VCALENDAR
VERSION:1.0
BEGIN:VEVENT
DTSTART:20240907T110000
DTEND:20240907T120000
SUMMARY:NORTH CHARGERS vs. NORTH ELITE
DESCRIPTION:NORTH ROOKIES [1ST&2ND GRADES] - Brunswick County Parks & Recreation
LOCATION:NORTHWEST ROOKIE FIELD #1
CATEGORIES:QuickScores; Soccer - Youth Game
TRANSP:0
DALARM:20240907T090000;PT10M;2;NORTH CHARGERS vs. NORTH ELITE
END:VEVENT
BEGIN:VEVENT
DTSTART:20240914T100000
DTEND:20240914T110000
SUMMARY:NORTH CHARGERS vs. NORTH HOKIES
DESCRIPTION:NORTH ROOKIES [1ST&2ND GRADES] - Brunswick County Parks & Recreation
LOCATION:NORTHWEST ROOKIE FIELD #2
CATEGORIES:QuickScores; Soccer - Youth Game
TRANSP:0
DALARM:20240914T080000;PT10M;2;NORTH CHARGERS vs. NORTH HOKIES
END:VEVENT
BEGIN:VEVENT
DTSTART:20240921T100000
DTEND:20240921T110000
SUMMARY:NORTH CHARGERS vs. NORTH TIMBER
DESCRIPTION:NORTH ROOKIES [1ST&2ND GRADES] - Brunswick County Parks & Recreation
LOCATION:NORTHWEST ROOKIE FIELD #2
CATEGORIES:QuickScores; Soccer - Youth Game
TRANSP:0
DALARM:20240921T080000;PT10M;2;NORTH CHARGERS vs. NORTH TIMBER
END:VEVENT
BEGIN:VEVENT
DTSTART:20240928T110000
DTEND:20240928T120000
SUMMARY:NORTH MUDCATS vs. NORTH CHARGERS
DESCRIPTION:NORTH ROOKIES [1ST&2ND GRADES] - Brunswick County Parks & Recreation
LOCATION:NORTHWEST ROOKIE FIELD #1
CATEGORIES:QuickScores; Soccer - Youth Game
TRANSP:0
DALARM:20240928T090000;PT10M;2;NORTH MUDCATS vs. NORTH CHARGERS
END:VEVENT
BEGIN:VEVENT
DTSTART:20241005T100000
DTEND:20241005T110000
SUMMARY:NORTH CHARGERS vs. LAKE WACCAMAW GATORS
DESCRIPTION:NORTH ROOKIES [1ST&2ND GRADES] - Brunswick County Parks & Recreation
LOCATION:NORTHWEST ROOKIE FIELD #2
CATEGORIES:QuickScores; Soccer - Youth Game
TRANSP:0
DALARM:20241005T080000;PT10M;2;NORTH CHARGERS vs. LAKE WACCAMAW GATORS
END:VEVENT
BEGIN:VEVENT
DTSTART:20241012T110000
DTEND:20241012T120000
SUMMARY:NORTH ELITE vs. NORTH CHARGERS
DESCRIPTION:NORTH ROOKIES [1ST&2ND GRADES] - Brunswick County Parks & Recreation
LOCATION:NORTHWEST ROOKIE FIELD #1
CATEGORIES:QuickScores; Soccer - Youth Game
TRANSP:0
DALARM:20241012T090000;PT10M;2;NORTH ELITE vs. NORTH CHARGERS
END:VEVENT
BEGIN:VEVENT
DTSTART:20241019T100000
DTEND:20241019T110000
SUMMARY:NORTH HOKIES vs. NORTH CHARGERS
DESCRIPTION:NORTH ROOKIES [1ST&2ND GRADES] - Brunswick County Parks & Recreation
LOCATION:NORTHWEST ROOKIE FIELD #1
CATEGORIES:QuickScores; Soccer - Youth Game
TRANSP:0
DALARM:20241019T080000;PT10M;2;NORTH HOKIES vs. NORTH CHARGERS
END:VEVENT
BEGIN:VEVENT
DTSTART:20241026T100000
DTEND:20241026T110000
SUMMARY:NORTH TIMBER vs. NORTH CHARGERS
DESCRIPTION:NORTH ROOKIES [1ST&2ND GRADES] - Brunswick County Parks & Recreation
LOCATION:NORTHWEST ROOKIE FIELD #1
CATEGORIES:QuickScores; Soccer - Youth Game
TRANSP:0
DALARM:20241026T080000;PT10M;2;NORTH TIMBER vs. NORTH CHARGERS
END:VEVENT
END:VCALENDAR
