BEGIN:VCALENDAR
VERSION:1.0
BEGIN:VEVENT
DTSTART:20240907T100000
DTEND:20240907T110000
SUMMARY:NORTH HOKIES vs. NORTH TIMBER
DESCRIPTION:NORTH ROOKIES [1ST&2ND GRADES] - Brunswick County Parks & Recreation
LOCATION:NORTHWEST ROOKIE FIELD #1
CATEGORIES:QuickScores; Soccer - Youth Game
TRANSP:0
DALARM:20240907T080000;PT10M;2;NORTH HOKIES vs. NORTH TIMBER
END:VEVENT
BEGIN:VEVENT
DTSTART:20240914T100000
DTEND:20240914T110000
SUMMARY:NORTH CHARGERS vs. NORTH HOKIES
DESCRIPTION:NORTH ROOKIES [1ST&2ND GRADES] - Brunswick County Parks & Recreation
LOCATION:NORTHWEST ROOKIE FIELD #2
CATEGORIES:QuickScores; Soccer - Youth Game
TRANSP:0
DALARM:20240914T080000;PT10M;2;NORTH CHARGERS vs. NORTH HOKIES
END:VEVENT
BEGIN:VEVENT
DTSTART:20240921T110000
DTEND:20240921T120000
SUMMARY:NORTH HOKIES vs. NORTH MUDCATS
DESCRIPTION:NORTH ROOKIES [1ST&2ND GRADES] - Brunswick County Parks & Recreation
LOCATION:NORTHWEST ROOKIE FIELD #1
CATEGORIES:QuickScores; Soccer - Youth Game
TRANSP:0
DALARM:20240921T090000;PT10M;2;NORTH HOKIES vs. NORTH MUDCATS
END:VEVENT
BEGIN:VEVENT
DTSTART:20240928T100000
DTEND:20240928T110000
SUMMARY:LAKE WACCAMAW GATORS vs. NORTH HOKIES
DESCRIPTION:NORTH ROOKIES [1ST&2ND GRADES] - Brunswick County Parks & Recreation
LOCATION:NORTHWEST ROOKIE FIELD #1
CATEGORIES:QuickScores; Soccer - Youth Game
TRANSP:0
DALARM:20240928T080000;PT10M;2;LAKE WACCAMAW GATORS vs. NORTH HOKIES
END:VEVENT
BEGIN:VEVENT
DTSTART:20241005T110000
DTEND:20241005T120000
SUMMARY:NORTH HOKIES vs. NORTH ELITE
DESCRIPTION:NORTH ROOKIES [1ST&2ND GRADES] - Brunswick County Parks & Recreation
LOCATION:NORTHWEST ROOKIE FIELD #1
CATEGORIES:QuickScores; Soccer - Youth Game
TRANSP:0
DALARM:20241005T090000;PT10M;2;NORTH HOKIES vs. NORTH ELITE
END:VEVENT
BEGIN:VEVENT
DTSTART:20241012T100000
DTEND:20241012T110000
SUMMARY:NORTH TIMBER vs. NORTH HOKIES
DESCRIPTION:NORTH ROOKIES [1ST&2ND GRADES] - Brunswick County Parks & Recreation
LOCATION:NORTHWEST ROOKIE FIELD #2
CATEGORIES:QuickScores; Soccer - Youth Game
TRANSP:0
DALARM:20241012T080000;PT10M;2;NORTH TIMBER vs. NORTH HOKIES
END:VEVENT
BEGIN:VEVENT
DTSTART:20241019T100000
DTEND:20241019T110000
SUMMARY:NORTH HOKIES vs. NORTH CHARGERS
DESCRIPTION:NORTH ROOKIES [1ST&2ND GRADES] - Brunswick County Parks & Recreation
LOCATION:NORTHWEST ROOKIE FIELD #1
CATEGORIES:QuickScores; Soccer - Youth Game
TRANSP:0
DALARM:20241019T080000;PT10M;2;NORTH HOKIES vs. NORTH CHARGERS
END:VEVENT
BEGIN:VEVENT
DTSTART:20241026T110000
DTEND:20241026T120000
SUMMARY:NORTH MUDCATS vs. NORTH HOKIES
DESCRIPTION:NORTH ROOKIES [1ST&2ND GRADES] - Brunswick County Parks & Recreation
LOCATION:NORTHWEST ROOKIE FIELD #1
CATEGORIES:QuickScores; Soccer - Youth Game
TRANSP:0
DALARM:20241026T090000;PT10M;2;NORTH MUDCATS vs. NORTH HOKIES
END:VEVENT
END:VCALENDAR
