BEGIN:VCALENDAR
VERSION:1.0
BEGIN:VEVENT
DTSTART:20210911T123000
DTEND:20210911T133000
SUMMARY:NORTH STORM vs. NORTH ARMADA
DESCRIPTION:JUNIOR VARSITY SOCCER - Brunswick County Parks & Recreation
LOCATION:NORTHWEST PARK JUNIOR VARSITY
CATEGORIES:QuickScores; Soccer - Youth Game
TRANSP:0
DALARM:20210911T103000;PT10M;2;NORTH STORM vs. NORTH ARMADA
END:VEVENT
BEGIN:VEVENT
DTSTART:20210918T120000
DTEND:20210918T130000
SUMMARY:SOUTH SILVERBACKS vs. NORTH ARMADA
DESCRIPTION:JUNIOR VARSITY SOCCER - Brunswick County Parks & Recreation
LOCATION:SMITHVILLE PARK J.V. #1
CATEGORIES:QuickScores; Soccer - Youth Game
TRANSP:0
DALARM:20210918T100000;PT10M;2;SOUTH SILVERBACKS vs. NORTH ARMADA
END:VEVENT
BEGIN:VEVENT
DTSTART:20210925T123000
DTEND:20210925T133000
SUMMARY:NORTH ARMADA vs. NORTH DRAGONS
DESCRIPTION:JUNIOR VARSITY SOCCER - Brunswick County Parks & Recreation
LOCATION:NORTHWEST PARK JUNIOR VARSITY
CATEGORIES:QuickScores; Soccer - Youth Game
TRANSP:0
DALARM:20210925T103000;PT10M;2;NORTH ARMADA vs. NORTH DRAGONS
END:VEVENT
BEGIN:VEVENT
DTSTART:20211002T123000
DTEND:20211002T133000
SUMMARY:SOUTH GAMECOCKS vs. NORTH ARMADA
DESCRIPTION:PICTURE DAY-EVENT FOTOS-(843) 236-2201 --- JUNIOR VARSITY SOCCER - Brunswick County Parks & Recreation
LOCATION:NORTHWEST PARK JUNIOR VARSITY
CATEGORIES:QuickScores; Soccer - Youth Game
TRANSP:0
DALARM:20211002T103000;PT10M;2;SOUTH GAMECOCKS vs. NORTH ARMADA
END:VEVENT
BEGIN:VEVENT
DTSTART:20211009T133000
DTEND:20211009T143000
SUMMARY:NORTH ARMADA vs. SOUTH FIREANTS
DESCRIPTION:JUNIOR VARSITY SOCCER - Brunswick County Parks & Recreation
LOCATION:SMITHVILLE PARK JUNIOR VARSITY
CATEGORIES:QuickScores; Soccer - Youth Game
TRANSP:0
DALARM:20211009T113000;PT10M;2;NORTH ARMADA vs. SOUTH FIREANTS
END:VEVENT
BEGIN:VEVENT
DTSTART:20211016T123000
DTEND:20211016T133000
SUMMARY:SOUTH STARS vs. NORTH ARMADA
DESCRIPTION:JUNIOR VARSITY SOCCER - Brunswick County Parks & Recreation
LOCATION:NORTHWEST PARK JUNIOR VARSITY
CATEGORIES:QuickScores; Soccer - Youth Game
TRANSP:0
DALARM:20211016T103000;PT10M;2;SOUTH STARS vs. NORTH ARMADA
END:VEVENT
BEGIN:VEVENT
DTSTART:20211023T123000
DTEND:20211023T133000
SUMMARY:NORTH ARMADA vs. SOUTH GALAXY
DESCRIPTION:JUNIOR VARSITY SOCCER - Brunswick County Parks & Recreation
LOCATION:NORTHWEST PARK JUNIOR VARSITY
CATEGORIES:QuickScores; Soccer - Youth Game
TRANSP:0
DALARM:20211023T103000;PT10M;2;NORTH ARMADA vs. SOUTH GALAXY
END:VEVENT
BEGIN:VEVENT
DTSTART:20211030T110000
DTEND:20211030T120000
SUMMARY:NORTH ARMADA vs. NORTH STORM
DESCRIPTION:JUNIOR VARSITY SOCCER - Brunswick County Parks & Recreation
LOCATION:NORTHWEST PARK JUNIOR VARSITY
CATEGORIES:QuickScores; Soccer - Youth Game
TRANSP:0
DALARM:20211030T090000;PT10M;2;NORTH ARMADA vs. NORTH STORM
END:VEVENT
END:VCALENDAR
