BEGIN:VCALENDAR
VERSION:1.0
BEGIN:VEVENT
DTSTART:20210911T110000
DTEND:20210911T120000
SUMMARY:NORTH DRAGONS vs. SOUTH STARS
DESCRIPTION:JUNIOR VARSITY SOCCER - Brunswick County Parks & Recreation
LOCATION:NORTHWEST PARK JUNIOR VARSITY
CATEGORIES:QuickScores; Soccer - Youth Game
TRANSP:0
DALARM:20210911T090000;PT10M;2;NORTH DRAGONS vs. SOUTH STARS
END:VEVENT
BEGIN:VEVENT
DTSTART:20210918T110000
DTEND:20210918T120000
SUMMARY:NORTH STORM vs. NORTH DRAGONS
DESCRIPTION:JUNIOR VARSITY SOCCER - Brunswick County Parks & Recreation
LOCATION:NORTHWEST PARK JUNIOR VARSITY
CATEGORIES:QuickScores; Soccer - Youth Game
TRANSP:0
DALARM:20210918T090000;PT10M;2;NORTH STORM vs. NORTH DRAGONS
END:VEVENT
BEGIN:VEVENT
DTSTART:20210925T123000
DTEND:20210925T133000
SUMMARY:NORTH ARMADA vs. NORTH DRAGONS
DESCRIPTION:JUNIOR VARSITY SOCCER - Brunswick County Parks & Recreation
LOCATION:NORTHWEST PARK JUNIOR VARSITY
CATEGORIES:QuickScores; Soccer - Youth Game
TRANSP:0
DALARM:20210925T103000;PT10M;2;NORTH ARMADA vs. NORTH DRAGONS
END:VEVENT
BEGIN:VEVENT
DTSTART:20211002T120000
DTEND:20211002T130000
SUMMARY:SOUTH GALAXY vs. NORTH DRAGONS
DESCRIPTION:PICTURE DAY-EVENT FOTOS-(843) 236-2201 --- JUNIOR VARSITY SOCCER - Brunswick County Parks & Recreation
LOCATION:SMITHVILLE PARK J.V. #1
CATEGORIES:QuickScores; Soccer - Youth Game
TRANSP:0
DALARM:20211002T100000;PT10M;2;SOUTH GALAXY vs. NORTH DRAGONS
END:VEVENT
BEGIN:VEVENT
DTSTART:20211009T110000
DTEND:20211009T120000
SUMMARY:NORTH DRAGONS vs. SOUTH GAMECOCKS
DESCRIPTION:JUNIOR VARSITY SOCCER - Brunswick County Parks & Recreation
LOCATION:NORTHWEST PARK JUNIOR VARSITY
CATEGORIES:QuickScores; Soccer - Youth Game
TRANSP:0
DALARM:20211009T090000;PT10M;2;NORTH DRAGONS vs. SOUTH GAMECOCKS
END:VEVENT
BEGIN:VEVENT
DTSTART:20211016T110000
DTEND:20211016T120000
SUMMARY:NORTH DRAGONS vs. SOUTH SILVERBACKS
DESCRIPTION:JUNIOR VARSITY SOCCER - Brunswick County Parks & Recreation
LOCATION:NORTHWEST PARK JUNIOR VARSITY
CATEGORIES:QuickScores; Soccer - Youth Game
TRANSP:0
DALARM:20211016T090000;PT10M;2;NORTH DRAGONS vs. SOUTH SILVERBACKS
END:VEVENT
BEGIN:VEVENT
DTSTART:20211023T110000
DTEND:20211023T120000
SUMMARY:NORTH DRAGONS vs. SOUTH FIREANTS
DESCRIPTION:JUNIOR VARSITY SOCCER - Brunswick County Parks & Recreation
LOCATION:NORTHWEST PARK JUNIOR VARSITY
CATEGORIES:QuickScores; Soccer - Youth Game
TRANSP:0
DALARM:20211023T090000;PT10M;2;NORTH DRAGONS vs. SOUTH FIREANTS
END:VEVENT
BEGIN:VEVENT
DTSTART:20211030T120000
DTEND:20211030T130000
SUMMARY:SOUTH STARS vs. NORTH DRAGONS
DESCRIPTION:JUNIOR VARSITY SOCCER - Brunswick County Parks & Recreation
LOCATION:SMITHVILLE PARK J.V. #1
CATEGORIES:QuickScores; Soccer - Youth Game
TRANSP:0
DALARM:20211030T100000;PT10M;2;SOUTH STARS vs. NORTH DRAGONS
END:VEVENT
END:VCALENDAR
