BEGIN:VCALENDAR
VERSION:1.0
BEGIN:VEVENT
DTSTART:20210911T120000
DTEND:20210911T130000
SUMMARY:SOUTH SILVERBACKS vs. SOUTH FIREANTS
DESCRIPTION:JUNIOR VARSITY SOCCER - Brunswick County Parks & Recreation
LOCATION:SMITHVILLE PARK J.V. #2
CATEGORIES:QuickScores; Soccer - Youth Game
TRANSP:0
DALARM:20210911T100000;PT10M;2;SOUTH SILVERBACKS vs. SOUTH FIREANTS
END:VEVENT
BEGIN:VEVENT
DTSTART:20210918T120000
DTEND:20210918T130000
SUMMARY:SOUTH FIREANTS vs. SOUTH GAMECOCKS
DESCRIPTION:JUNIOR VARSITY SOCCER - Brunswick County Parks & Recreation
LOCATION:SMITHVILLE PARK J.V. #2
CATEGORIES:QuickScores; Soccer - Youth Game
TRANSP:0
DALARM:20210918T100000;PT10M;2;SOUTH FIREANTS vs. SOUTH GAMECOCKS
END:VEVENT
BEGIN:VEVENT
DTSTART:20210925T110000
DTEND:20210925T120000
SUMMARY:NORTH STORM vs. SOUTH FIREANTS
DESCRIPTION:JUNIOR VARSITY SOCCER - Brunswick County Parks & Recreation
LOCATION:NORTHWEST PARK JUNIOR VARSITY
CATEGORIES:QuickScores; Soccer - Youth Game
TRANSP:0
DALARM:20210925T090000;PT10M;2;NORTH STORM vs. SOUTH FIREANTS
END:VEVENT
BEGIN:VEVENT
DTSTART:20211002T120000
DTEND:20211002T130000
SUMMARY:SOUTH FIREANTS vs. SOUTH STARS
DESCRIPTION:PICTURE DAY-EVENT FOTOS-(843) 236-2201 --- JUNIOR VARSITY SOCCER - Brunswick County Parks & Recreation
LOCATION:SMITHVILLE PARK J.V. #2
CATEGORIES:QuickScores; Soccer - Youth Game
TRANSP:0
DALARM:20211002T100000;PT10M;2;SOUTH FIREANTS vs. SOUTH STARS
END:VEVENT
BEGIN:VEVENT
DTSTART:20211009T133000
DTEND:20211009T143000
SUMMARY:NORTH ARMADA vs. SOUTH FIREANTS
DESCRIPTION:JUNIOR VARSITY SOCCER - Brunswick County Parks & Recreation
LOCATION:SMITHVILLE PARK JUNIOR VARSITY
CATEGORIES:QuickScores; Soccer - Youth Game
TRANSP:0
DALARM:20211009T113000;PT10M;2;NORTH ARMADA vs. SOUTH FIREANTS
END:VEVENT
BEGIN:VEVENT
DTSTART:20211016T120000
DTEND:20211016T130000
SUMMARY:SOUTH FIREANTS vs. SOUTH GALAXY
DESCRIPTION:JUNIOR VARSITY SOCCER - Brunswick County Parks & Recreation
LOCATION:SMITHVILLE PARK J.V. #1
CATEGORIES:QuickScores; Soccer - Youth Game
TRANSP:0
DALARM:20211016T100000;PT10M;2;SOUTH FIREANTS vs. SOUTH GALAXY
END:VEVENT
BEGIN:VEVENT
DTSTART:20211023T110000
DTEND:20211023T120000
SUMMARY:NORTH DRAGONS vs. SOUTH FIREANTS
DESCRIPTION:JUNIOR VARSITY SOCCER - Brunswick County Parks & Recreation
LOCATION:NORTHWEST PARK JUNIOR VARSITY
CATEGORIES:QuickScores; Soccer - Youth Game
TRANSP:0
DALARM:20211023T090000;PT10M;2;NORTH DRAGONS vs. SOUTH FIREANTS
END:VEVENT
BEGIN:VEVENT
DTSTART:20211030T123000
DTEND:20211030T133000
SUMMARY:SOUTH FIREANTS vs. SOUTH SILVERBACKS
DESCRIPTION:JUNIOR VARSITY SOCCER - Brunswick County Parks & Recreation
LOCATION:SMITHVILLE PARK JUNIOR VARSITY
CATEGORIES:QuickScores; Soccer - Youth Game
TRANSP:0
DALARM:20211030T103000;PT10M;2;SOUTH FIREANTS vs. SOUTH SILVERBACKS
END:VEVENT
END:VCALENDAR
