BEGIN:VCALENDAR
VERSION:1.0
BEGIN:VEVENT
DTSTART:20250125T090000
DTEND:20250125T103000
SUMMARY:Aces Baseball Club vs. GameSpeed
DESCRIPTION:13U - Top Prospect Athletics
LOCATION:SIBL 1
CATEGORIES:QuickScores; Baseball Game
TRANSP:0
DALARM:20250125T070000;PT10M;2;Aces Baseball Club vs. GameSpeed
END:VEVENT
BEGIN:VEVENT
DTSTART:20250125T110000
DTEND:20250125T123000
SUMMARY:365 Gold vs. Aces Baseball Club
DESCRIPTION:13U - Top Prospect Athletics
LOCATION:SIBL 1
CATEGORIES:QuickScores; Baseball Game
TRANSP:0
DALARM:20250125T090000;PT10M;2;365 Gold vs. Aces Baseball Club
END:VEVENT
END:VCALENDAR
