BEGIN:VCALENDAR
VERSION:1.0
BEGIN:VEVENT
DTSTART:20250125T090000
DTEND:20250125T103000
SUMMARY:365 Gold vs. Top Level 13U
DESCRIPTION:13U - Top Prospect Athletics
LOCATION:SIBL #4
CATEGORIES:QuickScores; Baseball Game
TRANSP:0
DALARM:20250125T070000;PT10M;2;365 Gold vs. Top Level 13U
END:VEVENT
BEGIN:VEVENT
DTSTART:20250125T110000
DTEND:20250125T123000
SUMMARY:365 Gold vs. Aces Baseball Club
DESCRIPTION:13U - Top Prospect Athletics
LOCATION:SIBL 1
CATEGORIES:QuickScores; Baseball Game
TRANSP:0
DALARM:20250125T090000;PT10M;2;365 Gold vs. Aces Baseball Club
END:VEVENT
BEGIN:VEVENT
DTSTART:20250202T110000
DTEND:20250202T123000
SUMMARY:[1] 365 Gold vs. [4] Top Level
DESCRIPTION:13U - Top Prospect Athletics
LOCATION:SIBL 1
CATEGORIES:QuickScores; Baseball Game
TRANSP:0
DALARM:20250202T090000;PT10M;2;[1] 365 Gold vs. [4] Top Level
END:VEVENT
END:VCALENDAR
