BEGIN:VCALENDAR
VERSION:1.0
BEGIN:VEVENT
DTSTART:20241006T080000
DTEND:20241006T093000
SUMMARY:Toluca Titans vs. Vapors
DESCRIPTION:10U - Top Prospect Athletics
LOCATION:SIBL #3
CATEGORIES:QuickScores; Baseball Game
TRANSP:0
DALARM:20241006T060000;PT10M;2;Toluca Titans vs. Vapors
END:VEVENT
BEGIN:VEVENT
DTSTART:20241006T100000
DTEND:20241006T113000
SUMMARY:Toluca Titans vs. Vapors
DESCRIPTION:10U - Top Prospect Athletics
LOCATION:SIBL #3
CATEGORIES:QuickScores; Baseball Game
TRANSP:0
DALARM:20241006T080000;PT10M;2;Toluca Titans vs. Vapors
END:VEVENT
END:VCALENDAR
