BEGIN:VCALENDAR
VERSION:1.0
BEGIN:VEVENT
DTSTART:20240908T100000
DTEND:20240908T113000
SUMMARY:MVP HUSTLE LUNA 10U vs. SOBA BLACK 10U
DESCRIPTION:10U - Top Prospect Athletics
LOCATION:EFF 4
CATEGORIES:QuickScores; Baseball Game
TRANSP:0
DALARM:20240908T080000;PT10M;2;MVP HUSTLE LUNA 10U vs. SOBA BLACK 10U
END:VEVENT
BEGIN:VEVENT
DTSTART:20240922T100000
DTEND:20240922T113000
SUMMARY:SOBA BLACK 10U vs. Toluca Titans
DESCRIPTION:10U - Top Prospect Athletics
LOCATION:EFF 4
CATEGORIES:QuickScores; Baseball Game
TRANSP:0
DALARM:20240922T080000;PT10M;2;SOBA BLACK 10U vs. Toluca Titans
END:VEVENT
BEGIN:VEVENT
DTSTART:20240922T140000
DTEND:20240922T153000
SUMMARY:TENACITY 10U vs. SOBA BLACK 10U
DESCRIPTION:10U - Top Prospect Athletics
LOCATION:EFF 4
CATEGORIES:QuickScores; Baseball Game
TRANSP:0
DALARM:20240922T120000;PT10M;2;TENACITY 10U vs. SOBA BLACK 10U
END:VEVENT
BEGIN:VEVENT
DTSTART:20241013T080000
DTEND:20241013T093000
SUMMARY:BH14 vs. SOBA BLACK 10U
DESCRIPTION:10U - Top Prospect Athletics
LOCATION:EFF 4
CATEGORIES:QuickScores; Baseball Game
TRANSP:0
DALARM:20241013T060000;PT10M;2;BH14 vs. SOBA BLACK 10U
END:VEVENT
BEGIN:VEVENT
DTSTART:20241013T100000
DTEND:20241013T113000
SUMMARY:TOP LEVEL 10U vs. SOBA BLACK 10U
DESCRIPTION:10U - Top Prospect Athletics
LOCATION:EFF 2
CATEGORIES:QuickScores; Baseball Game
TRANSP:0
DALARM:20241013T080000;PT10M;2;TOP LEVEL 10U vs. SOBA BLACK 10U
END:VEVENT
BEGIN:VEVENT
DTSTART:20241102T130000
DTEND:20241102T143000
SUMMARY:MVP HUSTLE LUNA 10U vs. SOBA BLACK 10U
DESCRIPTION:10U - Top Prospect Athletics
LOCATION:SIBL #5
CATEGORIES:QuickScores; Baseball Game
TRANSP:0
DALARM:20241102T110000;PT10M;2;MVP HUSTLE LUNA 10U vs. SOBA BLACK 10U
END:VEVENT
BEGIN:VEVENT
DTSTART:20241117T080000
DTEND:20241117T093000
SUMMARY:MVP HUSTLE LUNA 10U vs. SOBA BLACK 10U
DESCRIPTION:1:35 NO NEW 1:50 DROP DEAD --- 10U - Top Prospect Athletics
LOCATION:EFF 4
CATEGORIES:QuickScores; Baseball Game
TRANSP:0
DALARM:20241117T060000;PT10M;2;MVP HUSTLE LUNA 10U vs. SOBA BLACK 10U
END:VEVENT
BEGIN:VEVENT
DTSTART:20241117T120000
DTEND:20241117T133000
SUMMARY:SOBA BLACK 10U vs. CHEVIOT 10U
DESCRIPTION:1:35 NO NEW 1:50 DROP DEAD --- 10U - Top Prospect Athletics
LOCATION:EFF 4
CATEGORIES:QuickScores; Baseball Game
TRANSP:0
DALARM:20241117T100000;PT10M;2;SOBA BLACK 10U vs. CHEVIOT 10U
END:VEVENT
END:VCALENDAR
