BEGIN:VCALENDAR
VERSION:1.0
BEGIN:VEVENT
DTSTART:20240908T100000
DTEND:20240908T113000
SUMMARY:MVP HUSTLE LUNA 10U vs. SOBA BLACK 10U
DESCRIPTION:10U - Top Prospect Athletics
LOCATION:EFF 4
CATEGORIES:QuickScores; Baseball Game
TRANSP:0
DALARM:20240908T080000;PT10M;2;MVP HUSTLE LUNA 10U vs. SOBA BLACK 10U
END:VEVENT
BEGIN:VEVENT
DTSTART:20241020T080000
DTEND:20241020T093000
SUMMARY:LOS TORITOS 10U vs. MVP HUSTLE LUNA 10U
DESCRIPTION:10U - Top Prospect Athletics
LOCATION:EFF 4
CATEGORIES:QuickScores; Baseball Game
TRANSP:0
DALARM:20241020T060000;PT10M;2;LOS TORITOS 10U vs. MVP HUSTLE LUNA 10U
END:VEVENT
BEGIN:VEVENT
DTSTART:20241020T100000
DTEND:20241020T113000
SUMMARY:MVP HUSTLE LUNA 10U vs. LOS TORITOS 10U
DESCRIPTION:10U - Top Prospect Athletics
LOCATION:EFF 4
CATEGORIES:QuickScores; Baseball Game
TRANSP:0
DALARM:20241020T080000;PT10M;2;MVP HUSTLE LUNA 10U vs. LOS TORITOS 10U
END:VEVENT
BEGIN:VEVENT
DTSTART:20241102T110000
DTEND:20241102T123000
SUMMARY:MVP HUSTLE LUNA 10U vs. TENACITY 10U
DESCRIPTION:10U - Top Prospect Athletics
LOCATION:SIBL #5
CATEGORIES:QuickScores; Baseball Game
TRANSP:0
DALARM:20241102T090000;PT10M;2;MVP HUSTLE LUNA 10U vs. TENACITY 10U
END:VEVENT
BEGIN:VEVENT
DTSTART:20241102T130000
DTEND:20241102T143000
SUMMARY:MVP HUSTLE LUNA 10U vs. SOBA BLACK 10U
DESCRIPTION:10U - Top Prospect Athletics
LOCATION:SIBL #5
CATEGORIES:QuickScores; Baseball Game
TRANSP:0
DALARM:20241102T110000;PT10M;2;MVP HUSTLE LUNA 10U vs. SOBA BLACK 10U
END:VEVENT
BEGIN:VEVENT
DTSTART:20241110T073000
DTEND:20241110T090000
SUMMARY:TENACITY 10U vs. MVP HUSTLE LUNA 10U
DESCRIPTION:10U - Top Prospect Athletics
LOCATION:EFF 4
CATEGORIES:QuickScores; Baseball Game
TRANSP:0
DALARM:20241110T053000;PT10M;2;TENACITY 10U vs. MVP HUSTLE LUNA 10U
END:VEVENT
BEGIN:VEVENT
DTSTART:20241110T113000
DTEND:20241110T130000
SUMMARY:365 SHOCKERS vs. MVP HUSTLE LUNA 10U
DESCRIPTION:10U - Top Prospect Athletics
LOCATION:EFF 4
CATEGORIES:QuickScores; Baseball Game
TRANSP:0
DALARM:20241110T093000;PT10M;2;365 SHOCKERS vs. MVP HUSTLE LUNA 10U
END:VEVENT
BEGIN:VEVENT
DTSTART:20241117T080000
DTEND:20241117T093000
SUMMARY:MVP HUSTLE LUNA 10U vs. SOBA BLACK 10U
DESCRIPTION:1:35 NO NEW 1:50 DROP DEAD --- 10U - Top Prospect Athletics
LOCATION:EFF 4
CATEGORIES:QuickScores; Baseball Game
TRANSP:0
DALARM:20241117T060000;PT10M;2;MVP HUSTLE LUNA 10U vs. SOBA BLACK 10U
END:VEVENT
BEGIN:VEVENT
DTSTART:20241117T100000
DTEND:20241117T113000
SUMMARY:CHEVIOT 10U vs. MVP HUSTLE LUNA 10U
DESCRIPTION:1:35 NO NEW 1:50 DROP DEAD --- 10U - Top Prospect Athletics
LOCATION:EFF 4
CATEGORIES:QuickScores; Baseball Game
TRANSP:0
DALARM:20241117T080000;PT10M;2;CHEVIOT 10U vs. MVP HUSTLE LUNA 10U
END:VEVENT
END:VCALENDAR
