BEGIN:VCALENDAR
VERSION:1.0
BEGIN:VEVENT
DTSTART:20240428T080000
DTEND:20240428T093000
SUMMARY:365 Gold vs. ROCKSTARS
DESCRIPTION:11U - Top Prospect Athletics
LOCATION:EFF 6
CATEGORIES:QuickScores; Baseball Game
TRANSP:0
DALARM:20240428T060000;PT10M;2;365 Gold vs. ROCKSTARS
END:VEVENT
BEGIN:VEVENT
DTSTART:20240511T150000
DTEND:20240511T163000
SUMMARY:ROCKSTARS vs. Santa  Monica baseball Academy
DESCRIPTION:11U - Top Prospect Athletics
LOCATION:EFF 5
CATEGORIES:QuickScores; Baseball Game
TRANSP:0
DALARM:20240511T130000;PT10M;2;ROCKSTARS vs. Santa  Monica baseball Academy
END:VEVENT
END:VCALENDAR
