BEGIN:VCALENDAR
VERSION:1.0
BEGIN:VEVENT
DTSTART:20240421T095000
DTEND:20240421T112000
SUMMARY:Top-Level 9u vs. Toluca Titans 9U
DESCRIPTION:9U - Top Prospect Athletics
LOCATION:LasPalmas1
CATEGORIES:QuickScores; Baseball Game
TRANSP:0
DALARM:20240421T075000;PT10M;2;Top-Level 9u vs. Toluca Titans 9U
END:VEVENT
BEGIN:VEVENT
DTSTART:20240421T133000
DTEND:20240421T150000
SUMMARY:Toluca Titans 9U vs. Hit Factory 9U
DESCRIPTION:9U - Top Prospect Athletics
LOCATION:LasPalmas1
CATEGORIES:QuickScores; Baseball Game
TRANSP:0
DALARM:20240421T113000;PT10M;2;Toluca Titans 9U vs. Hit Factory 9U
END:VEVENT
BEGIN:VEVENT
DTSTART:20240421T171000
DTEND:20240421T184000
SUMMARY:[1] Gamespeed 9u vs. [2] Toluca Titans 9U
DESCRIPTION:9U - Top Prospect Athletics
LOCATION:LasPalmas1
CATEGORIES:QuickScores; Baseball Game
TRANSP:0
DALARM:20240421T151000;PT10M;2;[1] Gamespeed 9u vs. [2] Toluca Titans 9U
END:VEVENT
END:VCALENDAR
