BEGIN:VCALENDAR
VERSION:1.0
BEGIN:VEVENT
DTSTART:20240329T080000
DTEND:20240329T093000
SUMMARY:Titans 9u vs. Gamespeed 9u
DESCRIPTION:9U - Top Prospect Athletics
LOCATION:SIBL #7
CATEGORIES:QuickScores; Baseball Game
TRANSP:0
DALARM:20240329T060000;PT10M;2;Titans 9u vs. Gamespeed 9u
END:VEVENT
BEGIN:VEVENT
DTSTART:20240329T120000
DTEND:20240329T133000
SUMMARY:Gamespeed 9u vs. Longball 9u
DESCRIPTION:9U - Top Prospect Athletics
LOCATION:SIBL #7
CATEGORIES:QuickScores; Baseball Game
TRANSP:0
DALARM:20240329T100000;PT10M;2;Gamespeed 9u vs. Longball 9u
END:VEVENT
END:VCALENDAR
