BEGIN:VCALENDAR
VERSION:1.0
BEGIN:VEVENT
DTSTART:20240421T120000
DTEND:20240421T133000
SUMMARY:EKB Knights 11U vs. Toluca Thunder 11U
DESCRIPTION:11U - Top Prospect Athletics
LOCATION:EFF 6
CATEGORIES:QuickScores; Baseball Game
TRANSP:0
DALARM:20240421T100000;PT10M;2;EKB Knights 11U vs. Toluca Thunder 11U
END:VEVENT
END:VCALENDAR
