BEGIN:VCALENDAR
VERSION:1.0
BEGIN:VEVENT
DTSTART:20231001T120000
DTEND:20231001T133000
SUMMARY:Honeybadgers 12U vs. 365 Shockers East
DESCRIPTION:12U - Top Prospect Athletics
LOCATION:SIBL #6
CATEGORIES:QuickScores; Baseball Game
TRANSP:0
DALARM:20231001T100000;PT10M;2;Honeybadgers 12U vs. 365 Shockers East
END:VEVENT
BEGIN:VEVENT
DTSTART:20231001T160000
DTEND:20231001T173000
SUMMARY:KTB Seals vs. Honeybadgers 12U
DESCRIPTION:12U - Top Prospect Athletics
LOCATION:SIBL #6
CATEGORIES:QuickScores; Baseball Game
TRANSP:0
DALARM:20231001T140000;PT10M;2;KTB Seals vs. Honeybadgers 12U
END:VEVENT
BEGIN:VEVENT
DTSTART:20231015T080000
DTEND:20231015T093000
SUMMARY:365 Shockers East vs. Honeybadgers 12U
DESCRIPTION:12U - Top Prospect Athletics
LOCATION:SIBL #3
CATEGORIES:QuickScores; Baseball Game
TRANSP:0
DALARM:20231015T060000;PT10M;2;365 Shockers East vs. Honeybadgers 12U
END:VEVENT
BEGIN:VEVENT
DTSTART:20231015T100000
DTEND:20231015T113000
SUMMARY:Honeybadgers 12U vs. Toluca Titans 12U
DESCRIPTION:12U - Top Prospect Athletics
LOCATION:SIBL #6
CATEGORIES:QuickScores; Baseball Game
TRANSP:0
DALARM:20231015T080000;PT10M;2;Honeybadgers 12U vs. Toluca Titans 12U
END:VEVENT
BEGIN:VEVENT
DTSTART:20231029T080000
DTEND:20231029T093000
SUMMARY:Honeybadgers 12U vs. REAPERS 12U
DESCRIPTION:12U - Top Prospect Athletics
LOCATION:SIBL #6
CATEGORIES:QuickScores; Baseball Game
TRANSP:0
DALARM:20231029T060000;PT10M;2;Honeybadgers 12U vs. REAPERS 12U
END:VEVENT
BEGIN:VEVENT
DTSTART:20231029T100000
DTEND:20231029T113000
SUMMARY:EKB Knights 12U vs. Honeybadgers 12U
DESCRIPTION:12U - Top Prospect Athletics
LOCATION:SIBL #6
CATEGORIES:QuickScores; Baseball Game
TRANSP:0
DALARM:20231029T080000;PT10M;2;EKB Knights 12U vs. Honeybadgers 12U
END:VEVENT
BEGIN:VEVENT
DTSTART:20231112T112000
DTEND:20231112T125000
SUMMARY:West Coast Prospects GOLD vs. Honeybadgers 12U
DESCRIPTION:12U - Top Prospect Athletics
LOCATION:EFF 5
CATEGORIES:QuickScores; Baseball Game
TRANSP:0
DALARM:20231112T092000;PT10M;2;West Coast Prospects GOLD vs. Honeybadgers 12U
END:VEVENT
BEGIN:VEVENT
DTSTART:20231112T151000
DTEND:20231112T164000
SUMMARY:Honeybadgers 12U vs. Toluca Titans 12U
DESCRIPTION:12U - Top Prospect Athletics
LOCATION:EFF 5
CATEGORIES:QuickScores; Baseball Game
TRANSP:0
DALARM:20231112T131000;PT10M;2;Honeybadgers 12U vs. Toluca Titans 12U
END:VEVENT
END:VCALENDAR
