BEGIN:VCALENDAR
VERSION:1.0
BEGIN:VEVENT
DTSTART:20230924T121500
DTEND:20230924T134500
SUMMARY:ABA 12U vs. KTB Seals
DESCRIPTION:12U - Top Prospect Athletics
LOCATION:SIBL #4
CATEGORIES:QuickScores; Baseball Game
TRANSP:0
DALARM:20230924T101500;PT10M;2;ABA 12U vs. KTB Seals
END:VEVENT
BEGIN:VEVENT
DTSTART:20230924T143000
DTEND:20230924T160000
SUMMARY:Braves 12U White vs. KTB Seals
DESCRIPTION:12U - Top Prospect Athletics
LOCATION:SIBL #4
CATEGORIES:QuickScores; Baseball Game
TRANSP:0
DALARM:20230924T123000;PT10M;2;Braves 12U White vs. KTB Seals
END:VEVENT
BEGIN:VEVENT
DTSTART:20231001T140000
DTEND:20231001T153000
SUMMARY:REAPERS 12U vs. KTB Seals
DESCRIPTION:12U - Top Prospect Athletics
LOCATION:SIBL #6
CATEGORIES:QuickScores; Baseball Game
TRANSP:0
DALARM:20231001T120000;PT10M;2;REAPERS 12U vs. KTB Seals
END:VEVENT
BEGIN:VEVENT
DTSTART:20231001T160000
DTEND:20231001T173000
SUMMARY:KTB Seals vs. Honeybadgers 12U
DESCRIPTION:12U - Top Prospect Athletics
LOCATION:SIBL #6
CATEGORIES:QuickScores; Baseball Game
TRANSP:0
DALARM:20231001T140000;PT10M;2;KTB Seals vs. Honeybadgers 12U
END:VEVENT
BEGIN:VEVENT
DTSTART:20231008T080000
DTEND:20231008T093000
SUMMARY:KTB Seals vs. I5
DESCRIPTION:12U - Top Prospect Athletics
LOCATION:EFF 5
CATEGORIES:QuickScores; Baseball Game
TRANSP:0
DALARM:20231008T060000;PT10M;2;KTB Seals vs. I5
END:VEVENT
BEGIN:VEVENT
DTSTART:20231008T100000
DTEND:20231008T113000
SUMMARY:KTB Seals vs. Desert Dogs 12U
DESCRIPTION:12U - Top Prospect Athletics
LOCATION:EFF 5
CATEGORIES:QuickScores; Baseball Game
TRANSP:0
DALARM:20231008T080000;PT10M;2;KTB Seals vs. Desert Dogs 12U
END:VEVENT
BEGIN:VEVENT
DTSTART:20231015T163000
DTEND:20231015T180000
SUMMARY:365 Shockers 12U Gold vs. KTB Seals
DESCRIPTION:12U - Top Prospect Athletics
LOCATION:SIBL #3
CATEGORIES:QuickScores; Baseball Game
TRANSP:0
DALARM:20231015T143000;PT10M;2;365 Shockers 12U Gold vs. KTB Seals
END:VEVENT
BEGIN:VEVENT
DTSTART:20231022T130000
DTEND:20231022T143000
SUMMARY:BH14 vs. KTB Seals
DESCRIPTION:12U - Top Prospect Athletics
LOCATION:NORTH VALLEY BRONCO
CATEGORIES:QuickScores; Baseball Game
TRANSP:0
DALARM:20231022T110000;PT10M;2;BH14 vs. KTB Seals
END:VEVENT
BEGIN:VEVENT
DTSTART:20231022T150000
DTEND:20231022T163000
SUMMARY:KTB Seals vs. BH14
DESCRIPTION:12U - Top Prospect Athletics
LOCATION:NORTH VALLEY BRONCO
CATEGORIES:QuickScores; Baseball Game
TRANSP:0
DALARM:20231022T130000;PT10M;2;KTB Seals vs. BH14
END:VEVENT
BEGIN:VEVENT
DTSTART:20231029T140000
DTEND:20231029T153000
SUMMARY:EKB Knights 12U vs. KTB Seals
DESCRIPTION:12U - Top Prospect Athletics
LOCATION:SIBL #6
CATEGORIES:QuickScores; Baseball Game
TRANSP:0
DALARM:20231029T120000;PT10M;2;EKB Knights 12U vs. KTB Seals
END:VEVENT
BEGIN:VEVENT
DTSTART:20231029T160000
DTEND:20231029T173000
SUMMARY:KTB Seals vs. 365 Shockers East
DESCRIPTION:12U - Top Prospect Athletics
LOCATION:SIBL #6
CATEGORIES:QuickScores; Baseball Game
TRANSP:0
DALARM:20231029T140000;PT10M;2;KTB Seals vs. 365 Shockers East
END:VEVENT
BEGIN:VEVENT
DTSTART:20231105T133000
DTEND:20231105T140000
SUMMARY:Yetis 12u vs. KTB Seals
DESCRIPTION:12U - Top Prospect Athletics
LOCATION:SIBL #3
CATEGORIES:QuickScores; Baseball Game
TRANSP:0
DALARM:20231105T103000;PT10M;2;Yetis 12u vs. KTB Seals
END:VEVENT
BEGIN:VEVENT
DTSTART:20231105T153000
DTEND:20231105T160000
SUMMARY:Gamespeed 12u vs. KTB Seals
DESCRIPTION:12U - Top Prospect Athletics
LOCATION:SIBL #3
CATEGORIES:QuickScores; Baseball Game
TRANSP:0
DALARM:20231105T123000;PT10M;2;Gamespeed 12u vs. KTB Seals
END:VEVENT
BEGIN:VEVENT
DTSTART:20231112T123000
DTEND:20231112T140000
SUMMARY:KTB Seals vs. South Pasadena Pride 12U
DESCRIPTION:12U - Top Prospect Athletics
LOCATION:SIBL #6
CATEGORIES:QuickScores; Baseball Game
TRANSP:0
DALARM:20231112T103000;PT10M;2;KTB Seals vs. South Pasadena Pride 12U
END:VEVENT
BEGIN:VEVENT
DTSTART:20231112T143000
DTEND:20231112T160000
SUMMARY:KTB Seals vs. REAPERS 12U
DESCRIPTION:12U - Top Prospect Athletics
LOCATION:SIBL #6
CATEGORIES:QuickScores; Baseball Game
TRANSP:0
DALARM:20231112T123000;PT10M;2;KTB Seals vs. REAPERS 12U
END:VEVENT
END:VCALENDAR
