BEGIN:VCALENDAR
VERSION:1.0
BEGIN:VEVENT
DTSTART:20220709T081500
DTEND:20220709T094500
SUMMARY:Toluca Thunder 10U vs. 365 9U Elite
DESCRIPTION:9U/10U AA - Top Prospect Athletics
LOCATION:6a
CATEGORIES:QuickScores; Baseball Game
TRANSP:0
DALARM:20220709T061500;PT10M;2;Toluca Thunder 10U vs. 365 9U Elite
END:VEVENT
BEGIN:VEVENT
DTSTART:20220709T103000
DTEND:20220709T120000
SUMMARY:Toluca Thunder 10U vs. ELL Mavericks 10U
DESCRIPTION:9U/10U AA - Top Prospect Athletics
LOCATION:6a
CATEGORIES:QuickScores; Baseball Game
TRANSP:0
DALARM:20220709T083000;PT10M;2;Toluca Thunder 10U vs. ELL Mavericks 10U
END:VEVENT
END:VCALENDAR
