BEGIN:VCALENDAR
VERSION:1.0
BEGIN:VEVENT
DTSTART:20260411T120000
DTEND:20260411T130000
SUMMARY:VB615 Sedor (orange) vs. VB611 Miller (white/red)
DESCRIPTION:Volleyball - Girls 5th-6th Grade - 
LOCATION:Aurora  - Leighton
CATEGORIES:QuickScores; Volleyball - Youth Game
TRANSP:0
DALARM:20260411T100000;PT10M;2;VB615 Sedor (orange) vs. VB611 Miller (white/red)
END:VEVENT
BEGIN:VEVENT
DTSTART:20260412T130000
DTEND:20260412T140000
SUMMARY:VB67 Munn (navy) vs. VB615 Sedor (orange)
DESCRIPTION:Volleyball - Girls 5th-6th Grade - 
LOCATION:KHS - AUX Gym
CATEGORIES:QuickScores; Volleyball - Youth Game
TRANSP:0
DALARM:20260412T110000;PT10M;2;VB67 Munn (navy) vs. VB615 Sedor (orange)
END:VEVENT
BEGIN:VEVENT
DTSTART:20260418T150000
DTEND:20260418T160000
SUMMARY:VB61 Baroni (carolina) vs. VB615 Sedor (orange)
DESCRIPTION:Volleyball - Girls 5th-6th Grade - 
LOCATION:KMS - KENSTON MIDDLE SCHOOL
CATEGORIES:QuickScores; Volleyball - Youth Game
TRANSP:0
DALARM:20260418T130000;PT10M;2;VB61 Baroni (carolina) vs. VB615 Sedor (orange)
END:VEVENT
BEGIN:VEVENT
DTSTART:20260425T130000
DTEND:20260425T140000
SUMMARY:VB624 Kenaga (purple) vs. VB615 Sedor (orange)
DESCRIPTION:Volleyball - Girls 5th-6th Grade - 
LOCATION:Aurora - Harmon
CATEGORIES:QuickScores; Volleyball - Youth Game
TRANSP:0
DALARM:20260425T110000;PT10M;2;VB624 Kenaga (purple) vs. VB615 Sedor (orange)
END:VEVENT
BEGIN:VEVENT
DTSTART:20260502T090000
DTEND:20260502T100000
SUMMARY:VB615 Sedor (orange) vs. VB612 Tannert (purple)
DESCRIPTION:Volleyball - Girls 5th-6th Grade - 
LOCATION:Aurora - Harmon
CATEGORIES:QuickScores; Volleyball - Youth Game
TRANSP:0
DALARM:20260502T070000;PT10M;2;VB615 Sedor (orange) vs. VB612 Tannert (purple)
END:VEVENT
BEGIN:VEVENT
DTSTART:20260509T120000
DTEND:20260509T130000
SUMMARY:VB615 Sedor (orange) vs. VB610 Freiberg (white/royal)
DESCRIPTION:Volleyball - Girls 5th-6th Grade - 
LOCATION:KMS - KENSTON MIDDLE SCHOOL
CATEGORIES:QuickScores; Volleyball - Youth Game
TRANSP:0
DALARM:20260509T100000;PT10M;2;VB615 Sedor (orange) vs. VB610 Freiberg (white/royal)
END:VEVENT
BEGIN:VEVENT
DTSTART:20260509T130000
DTEND:20260509T140000
SUMMARY:VB615 Sedor (orange) vs. VB625 Richardson (pink)
DESCRIPTION:Volleyball - Girls 5th-6th Grade - 
LOCATION:KMS - KENSTON MIDDLE SCHOOL
CATEGORIES:QuickScores; Volleyball - Youth Game
TRANSP:0
DALARM:20260509T110000;PT10M;2;VB615 Sedor (orange) vs. VB625 Richardson (pink)
END:VEVENT
END:VCALENDAR
