BEGIN:VCALENDAR
VERSION:1.0
BEGIN:VEVENT
DTSTART:20260411T120000
DTEND:20260411T130000
SUMMARY:VB615 Sedor (orange) vs. VB611 Miller (white/red)
DESCRIPTION:Volleyball - Girls 5th-6th Grade - 
LOCATION:Aurora  - Leighton
CATEGORIES:QuickScores; Volleyball - Youth Game
TRANSP:0
DALARM:20260411T100000;PT10M;2;VB615 Sedor (orange) vs. VB611 Miller (white/red)
END:VEVENT
BEGIN:VEVENT
DTSTART:20260418T110000
DTEND:20260418T120000
SUMMARY:VB611 Miller (white/red) vs. VB625 Richardson (pink)
DESCRIPTION:Volleyball - Girls 5th-6th Grade - 
LOCATION:Aurora - Harmon
CATEGORIES:QuickScores; Volleyball - Youth Game
TRANSP:0
DALARM:20260418T090000;PT10M;2;VB611 Miller (white/red) vs. VB625 Richardson (pink)
END:VEVENT
BEGIN:VEVENT
DTSTART:20260419T160000
DTEND:20260419T170000
SUMMARY:VB618 Furlong vs. VB611 Miller (white/red)
DESCRIPTION:Volleyball - Girls 5th-6th Grade - 
LOCATION:TES - KENSTON TIMMONS ELEMENTARY SCHOOL
CATEGORIES:QuickScores; Volleyball - Youth Game
TRANSP:0
DALARM:20260419T140000;PT10M;2;VB618 Furlong vs. VB611 Miller (white/red)
END:VEVENT
BEGIN:VEVENT
DTSTART:20260426T100000
DTEND:20260426T110000
SUMMARY:VB611 Miller (white/red) vs. VB616 Detweiler
DESCRIPTION:Volleyball - Girls 5th-6th Grade - 
LOCATION:KHS - AUX Gym
CATEGORIES:QuickScores; Volleyball - Youth Game
TRANSP:0
DALARM:20260426T080000;PT10M;2;VB611 Miller (white/red) vs. VB616 Detweiler
END:VEVENT
BEGIN:VEVENT
DTSTART:20260502T090000
DTEND:20260502T100000
SUMMARY:VB611 Miller (white/red) vs. VB624 Kenaga (purple)
DESCRIPTION:Volleyball - Girls 5th-6th Grade - 
LOCATION:KMS - KENSTON MIDDLE SCHOOL
CATEGORIES:QuickScores; Volleyball - Youth Game
TRANSP:0
DALARM:20260502T070000;PT10M;2;VB611 Miller (white/red) vs. VB624 Kenaga (purple)
END:VEVENT
BEGIN:VEVENT
DTSTART:20260503T140000
DTEND:20260503T150000
SUMMARY:VB612 Tannert (purple) vs. VB611 Miller (white/red)
DESCRIPTION:Volleyball - Girls 5th-6th Grade - 
LOCATION:KMS - KENSTON MIDDLE SCHOOL
CATEGORIES:QuickScores; Volleyball - Youth Game
TRANSP:0
DALARM:20260503T120000;PT10M;2;VB612 Tannert (purple) vs. VB611 Miller (white/red)
END:VEVENT
BEGIN:VEVENT
DTSTART:20260509T150000
DTEND:20260509T160000
SUMMARY:VB61 Baroni (carolina) vs. VB611 Miller (white/red)
DESCRIPTION:Volleyball - Girls 5th-6th Grade - 
LOCATION:TES - KENSTON TIMMONS ELEMENTARY SCHOOL
CATEGORIES:QuickScores; Volleyball - Youth Game
TRANSP:0
DALARM:20260509T130000;PT10M;2;VB61 Baroni (carolina) vs. VB611 Miller (white/red)
END:VEVENT
END:VCALENDAR
