BEGIN:VCALENDAR
VERSION:1.0
BEGIN:VEVENT
DTSTART:20260412T140000
DTEND:20260412T150000
SUMMARY:VB62 Korzhiletskiy (navy) vs. VB623 Fisher (green)
DESCRIPTION:Volleyball - Girls 5th-6th Grade - 
LOCATION:KHS - AUX Gym
CATEGORIES:QuickScores; Volleyball - Youth Game
TRANSP:0
DALARM:20260412T120000;PT10M;2;VB62 Korzhiletskiy (navy) vs. VB623 Fisher (green)
END:VEVENT
BEGIN:VEVENT
DTSTART:20260418T100000
DTEND:20260418T110000
SUMMARY:VB617 Brandenburg vs. VB623 Fisher (green)
DESCRIPTION:Volleyball - Girls 5th-6th Grade - 
LOCATION:KMS - KENSTON MIDDLE SCHOOL
CATEGORIES:QuickScores; Volleyball - Youth Game
TRANSP:0
DALARM:20260418T080000;PT10M;2;VB617 Brandenburg vs. VB623 Fisher (green)
END:VEVENT
BEGIN:VEVENT
DTSTART:20260419T160000
DTEND:20260419T170000
SUMMARY:VB613 Twarogowski (black) vs. VB623 Fisher (green)
DESCRIPTION:Volleyball - Girls 5th-6th Grade - 
LOCATION:KHS - AUX Gym
CATEGORIES:QuickScores; Volleyball - Youth Game
TRANSP:0
DALARM:20260419T140000;PT10M;2;VB613 Twarogowski (black) vs. VB623 Fisher (green)
END:VEVENT
BEGIN:VEVENT
DTSTART:20260426T130000
DTEND:20260426T140000
SUMMARY:VB623 Fisher (green) vs. VB67 Munn (navy)
DESCRIPTION:Volleyball - Girls 5th-6th Grade - 
LOCATION:KHS - AUX Gym
CATEGORIES:QuickScores; Volleyball - Youth Game
TRANSP:0
DALARM:20260426T110000;PT10M;2;VB623 Fisher (green) vs. VB67 Munn (navy)
END:VEVENT
BEGIN:VEVENT
DTSTART:20260502T100000
DTEND:20260502T110000
SUMMARY:VB68 Deeb (columbia blue) vs. VB623 Fisher (green)
DESCRIPTION:Volleyball - Girls 5th-6th Grade - 
LOCATION:KMS - KENSTON MIDDLE SCHOOL
CATEGORIES:QuickScores; Volleyball - Youth Game
TRANSP:0
DALARM:20260502T080000;PT10M;2;VB68 Deeb (columbia blue) vs. VB623 Fisher (green)
END:VEVENT
BEGIN:VEVENT
DTSTART:20260503T150000
DTEND:20260503T160000
SUMMARY:VB623 Fisher (green) vs. VB63 Dew (red)
DESCRIPTION:Volleyball - Girls 5th-6th Grade - 
LOCATION:TES - KENSTON TIMMONS ELEMENTARY SCHOOL
CATEGORIES:QuickScores; Volleyball - Youth Game
TRANSP:0
DALARM:20260503T130000;PT10M;2;VB623 Fisher (green) vs. VB63 Dew (red)
END:VEVENT
BEGIN:VEVENT
DTSTART:20260509T090000
DTEND:20260509T100000
SUMMARY:VB623 Fisher (green) vs. VB616 Detweiler
DESCRIPTION:Volleyball - Girls 5th-6th Grade - 
LOCATION:KMS - KENSTON MIDDLE SCHOOL
CATEGORIES:QuickScores; Volleyball - Youth Game
TRANSP:0
DALARM:20260509T070000;PT10M;2;VB623 Fisher (green) vs. VB616 Detweiler
END:VEVENT
END:VCALENDAR
