BEGIN:VCALENDAR
VERSION:1.0
BEGIN:VEVENT
DTSTART:20260411T120000
DTEND:20260411T130000
SUMMARY:VB622 Barrett vs. VB619 Havasi
DESCRIPTION:Volleyball - Girls 5th-6th Grade - 
LOCATION:KHS - AUX Gym
CATEGORIES:QuickScores; Volleyball - Youth Game
TRANSP:0
DALARM:20260411T100000;PT10M;2;VB622 Barrett vs. VB619 Havasi
END:VEVENT
BEGIN:VEVENT
DTSTART:20260418T110000
DTEND:20260418T120000
SUMMARY:VB622 Barrett vs. VB621 Catania
DESCRIPTION:Volleyball - Girls 5th-6th Grade - 
LOCATION:Aurora  - Leighton
CATEGORIES:QuickScores; Volleyball - Youth Game
TRANSP:0
DALARM:20260418T090000;PT10M;2;VB622 Barrett vs. VB621 Catania
END:VEVENT
BEGIN:VEVENT
DTSTART:20260418T120000
DTEND:20260418T130000
SUMMARY:VB624 Kenaga (purple) vs. VB622 Barrett
DESCRIPTION:Volleyball - Girls 5th-6th Grade - 
LOCATION:Aurora  - Leighton
CATEGORIES:QuickScores; Volleyball - Youth Game
TRANSP:0
DALARM:20260418T100000;PT10M;2;VB624 Kenaga (purple) vs. VB622 Barrett
END:VEVENT
BEGIN:VEVENT
DTSTART:20260426T100000
DTEND:20260426T110000
SUMMARY:VB620 Burtnett vs. VB622 Barrett
DESCRIPTION:Volleyball - Girls 5th-6th Grade - 
LOCATION:KIS - KENSTON INTERMEDIATE SCHOOL
CATEGORIES:QuickScores; Volleyball - Youth Game
TRANSP:0
DALARM:20260426T080000;PT10M;2;VB620 Burtnett vs. VB622 Barrett
END:VEVENT
BEGIN:VEVENT
DTSTART:20260502T100000
DTEND:20260502T110000
SUMMARY:VB610 Freiberg (white/royal) vs. VB622 Barrett
DESCRIPTION:Volleyball - Girls 5th-6th Grade - 
LOCATION:Aurora - Harmon
CATEGORIES:QuickScores; Volleyball - Youth Game
TRANSP:0
DALARM:20260502T080000;PT10M;2;VB610 Freiberg (white/royal) vs. VB622 Barrett
END:VEVENT
BEGIN:VEVENT
DTSTART:20260502T110000
DTEND:20260502T120000
SUMMARY:VB622 Barrett vs. VB69 Fete (dark green)
DESCRIPTION:Volleyball - Girls 5th-6th Grade - 
LOCATION:Aurora - Harmon
CATEGORIES:QuickScores; Volleyball - Youth Game
TRANSP:0
DALARM:20260502T090000;PT10M;2;VB622 Barrett vs. VB69 Fete (dark green)
END:VEVENT
BEGIN:VEVENT
DTSTART:20260509T130000
DTEND:20260509T140000
SUMMARY:VB612 Tannert (purple) vs. VB622 Barrett
DESCRIPTION:Volleyball - Girls 5th-6th Grade - 
LOCATION:Aurora  - Leighton
CATEGORIES:QuickScores; Volleyball - Youth Game
TRANSP:0
DALARM:20260509T110000;PT10M;2;VB612 Tannert (purple) vs. VB622 Barrett
END:VEVENT
END:VCALENDAR
