BEGIN:VCALENDAR
VERSION:1.0
BEGIN:VEVENT
DTSTART:20260328T113000
DTEND:20260328T123000
SUMMARY:Coach Scafani vs. Coach Etue
DESCRIPTION:U8 Bartram Springs - Amenity Athletics: Your Neighborhood Athletic Association
LOCATION:Bartram Springs Field 2
CATEGORIES:QuickScores; Soccer Game
TRANSP:0
DALARM:20260328T093000;PT10M;2;Coach Scafani vs. Coach Etue
END:VEVENT
BEGIN:VEVENT
DTSTART:20260411T083000
DTEND:20260411T093000
SUMMARY:Coach Ethan vs. Coach Etue
DESCRIPTION:U8 Bartram Springs - Amenity Athletics: Your Neighborhood Athletic Association
LOCATION:Bartram Springs Field 2
CATEGORIES:QuickScores; Soccer Game
TRANSP:0
DALARM:20260411T063000;PT10M;2;Coach Ethan vs. Coach Etue
END:VEVENT
BEGIN:VEVENT
DTSTART:20260418T083000
DTEND:20260418T093000
SUMMARY:Coach Etue vs. Coach Hajir
DESCRIPTION:U8 Bartram Springs - Amenity Athletics: Your Neighborhood Athletic Association
LOCATION:Bartram Springs Field 2
CATEGORIES:QuickScores; Soccer Game
TRANSP:0
DALARM:20260418T063000;PT10M;2;Coach Etue vs. Coach Hajir
END:VEVENT
BEGIN:VEVENT
DTSTART:20260425T093000
DTEND:20260425T103000
SUMMARY:Coach Schroeder vs. Coach Etue
DESCRIPTION:U8 Bartram Springs - Amenity Athletics: Your Neighborhood Athletic Association
LOCATION:Bartram Springs Field 2
CATEGORIES:QuickScores; Soccer Game
TRANSP:0
DALARM:20260425T073000;PT10M;2;Coach Schroeder vs. Coach Etue
END:VEVENT
BEGIN:VEVENT
DTSTART:20260502T093000
DTEND:20260502T103000
SUMMARY:Coach Etue vs. Coach Warthen
DESCRIPTION:U8 Bartram Springs - Amenity Athletics: Your Neighborhood Athletic Association
LOCATION:Bartram Springs Field 2
CATEGORIES:QuickScores; Soccer Game
TRANSP:0
DALARM:20260502T073000;PT10M;2;Coach Etue vs. Coach Warthen
END:VEVENT
BEGIN:VEVENT
DTSTART:20260509T113000
DTEND:20260509T123000
SUMMARY:Coach DellaFave vs. Coach Etue
DESCRIPTION:U8 Bartram Springs - Amenity Athletics: Your Neighborhood Athletic Association
LOCATION:Bartram Springs Field 2
CATEGORIES:QuickScores; Soccer Game
TRANSP:0
DALARM:20260509T093000;PT10M;2;Coach DellaFave vs. Coach Etue
END:VEVENT
BEGIN:VEVENT
DTSTART:20260516T103000
DTEND:20260516T113000
SUMMARY:Coach Etue vs. Coach Ghiglia
DESCRIPTION:U8 Bartram Springs - Amenity Athletics: Your Neighborhood Athletic Association
LOCATION:Bartram Springs Field 2
CATEGORIES:QuickScores; Soccer Game
TRANSP:0
DALARM:20260516T083000;PT10M;2;Coach Etue vs. Coach Ghiglia
END:VEVENT
BEGIN:VEVENT
DTSTART:20260523T123000
DTEND:20260523T133000
SUMMARY:Coach Etue vs. Coach Parker
DESCRIPTION:U8 Bartram Springs - Amenity Athletics: Your Neighborhood Athletic Association
LOCATION:Bartram Springs Field 2
CATEGORIES:QuickScores; Soccer Game
TRANSP:0
DALARM:20260523T103000;PT10M;2;Coach Etue vs. Coach Parker
END:VEVENT
END:VCALENDAR
