BEGIN:VCALENDAR
VERSION:1.0
BEGIN:VEVENT
DTSTART:20260328T083000
DTEND:20260328T093000
SUMMARY:Coach Aho vs. Coach Sloman
DESCRIPTION:U6 Bartram Springs - Amenity Athletics: Your Neighborhood Athletic Association
LOCATION:Bartram Springs Field 1
CATEGORIES:QuickScores; Soccer Game
TRANSP:0
DALARM:20260328T063000;PT10M;2;Coach Aho vs. Coach Sloman
END:VEVENT
BEGIN:VEVENT
DTSTART:20260411T093000
DTEND:20260411T103000
SUMMARY:Coach Sloman vs. Coach Diedrich
DESCRIPTION:U6 Bartram Springs - Amenity Athletics: Your Neighborhood Athletic Association
LOCATION:Bartram Springs Field 1
CATEGORIES:QuickScores; Soccer Game
TRANSP:0
DALARM:20260411T073000;PT10M;2;Coach Sloman vs. Coach Diedrich
END:VEVENT
BEGIN:VEVENT
DTSTART:20260418T093000
DTEND:20260418T103000
SUMMARY:Coach Sloman vs. Coach Aho
DESCRIPTION:U6 Bartram Springs - Amenity Athletics: Your Neighborhood Athletic Association
LOCATION:Bartram Springs Field 1
CATEGORIES:QuickScores; Soccer Game
TRANSP:0
DALARM:20260418T073000;PT10M;2;Coach Sloman vs. Coach Aho
END:VEVENT
BEGIN:VEVENT
DTSTART:20260425T093000
DTEND:20260425T103000
SUMMARY:Coach Diedrich vs. Coach Sloman
DESCRIPTION:U6 Bartram Springs - Amenity Athletics: Your Neighborhood Athletic Association
LOCATION:Bartram Springs Field 1
CATEGORIES:QuickScores; Soccer Game
TRANSP:0
DALARM:20260425T073000;PT10M;2;Coach Diedrich vs. Coach Sloman
END:VEVENT
BEGIN:VEVENT
DTSTART:20260502T083000
DTEND:20260502T093000
SUMMARY:Coach Sloman vs. Coach Hernandez
DESCRIPTION:U6 Bartram Springs - Amenity Athletics: Your Neighborhood Athletic Association
LOCATION:Bartram Springs Field 1
CATEGORIES:QuickScores; Soccer Game
TRANSP:0
DALARM:20260502T063000;PT10M;2;Coach Sloman vs. Coach Hernandez
END:VEVENT
BEGIN:VEVENT
DTSTART:20260509T093000
DTEND:20260509T103000
SUMMARY:Coach Aho vs. Coach Sloman
DESCRIPTION:U6 Bartram Springs - Amenity Athletics: Your Neighborhood Athletic Association
LOCATION:Bartram Springs Field 1
CATEGORIES:QuickScores; Soccer Game
TRANSP:0
DALARM:20260509T073000;PT10M;2;Coach Aho vs. Coach Sloman
END:VEVENT
BEGIN:VEVENT
DTSTART:20260516T083000
DTEND:20260516T093000
SUMMARY:Coach Sloman vs. Coach Diedrich
DESCRIPTION:U6 Bartram Springs - Amenity Athletics: Your Neighborhood Athletic Association
LOCATION:Bartram Springs Field 1
CATEGORIES:QuickScores; Soccer Game
TRANSP:0
DALARM:20260516T063000;PT10M;2;Coach Sloman vs. Coach Diedrich
END:VEVENT
BEGIN:VEVENT
DTSTART:20260523T093000
DTEND:20260523T103000
SUMMARY:Coach Hernandez vs. Coach Sloman
DESCRIPTION:U6 Bartram Springs - Amenity Athletics: Your Neighborhood Athletic Association
LOCATION:Bartram Springs Field 1
CATEGORIES:QuickScores; Soccer Game
TRANSP:0
DALARM:20260523T073000;PT10M;2;Coach Hernandez vs. Coach Sloman
END:VEVENT
END:VCALENDAR
