BEGIN:VCALENDAR
VERSION:1.0
BEGIN:VEVENT
DTSTART:20251101T140000
DTEND:20251101T150000
SUMMARY:Sparks vs. Fever
DESCRIPTION:4th/5th Grade Girls - Arlington Heights Park District
LOCATION:Poe School
CATEGORIES:QuickScores; Basketball - Youth Game
TRANSP:0
DALARM:20251101T120000;PT10M;2;Sparks vs. Fever
END:VEVENT
BEGIN:VEVENT
DTSTART:20251102T160000
DTEND:20251102T160000
SUMMARY:Fever vs. Aces
DESCRIPTION:4th/5th Grade Girls - Arlington Heights Park District
LOCATION:Pioneer Gym
CATEGORIES:QuickScores; Basketball - Youth Game
TRANSP:0
DALARM:20251102T130000;PT10M;2;Fever vs. Aces
END:VEVENT
BEGIN:VEVENT
DTSTART:20251108T150000
DTEND:20251108T160000
SUMMARY:Fever vs. Dream
DESCRIPTION:4th/5th Grade Girls - Arlington Heights Park District
LOCATION:Pioneer Gym
CATEGORIES:QuickScores; Basketball - Youth Game
TRANSP:0
DALARM:20251108T130000;PT10M;2;Fever vs. Dream
END:VEVENT
BEGIN:VEVENT
DTSTART:20251115T150000
DTEND:20251115T160000
SUMMARY:Fever vs. Sky
DESCRIPTION:4th/5th Grade Girls - Arlington Heights Park District
LOCATION:Pioneer Gym
CATEGORIES:QuickScores; Basketball - Youth Game
TRANSP:0
DALARM:20251115T130000;PT10M;2;Fever vs. Sky
END:VEVENT
BEGIN:VEVENT
DTSTART:20251122T140000
DTEND:20251122T150000
SUMMARY:Valkyries vs. Fever
DESCRIPTION:4th/5th Grade Girls - Arlington Heights Park District
LOCATION:Poe School
CATEGORIES:QuickScores; Basketball - Youth Game
TRANSP:0
DALARM:20251122T120000;PT10M;2;Valkyries vs. Fever
END:VEVENT
BEGIN:VEVENT
DTSTART:20251206T150000
DTEND:20251206T160000
SUMMARY:Fever vs. Sun
DESCRIPTION:4th/5th Grade Girls - Arlington Heights Park District
LOCATION:Poe School
CATEGORIES:QuickScores; Basketball - Youth Game
TRANSP:0
DALARM:20251206T130000;PT10M;2;Fever vs. Sun
END:VEVENT
BEGIN:VEVENT
DTSTART:20251213T140000
DTEND:20251213T150000
SUMMARY:Mercury vs. Fever
DESCRIPTION:4th/5th Grade Girls - Arlington Heights Park District
LOCATION:Poe School
CATEGORIES:QuickScores; Basketball - Youth Game
TRANSP:0
DALARM:20251213T120000;PT10M;2;Mercury vs. Fever
END:VEVENT
BEGIN:VEVENT
DTSTART:20251214T130000
DTEND:20251214T140000
SUMMARY:Wings vs. Fever
DESCRIPTION:4th/5th Grade Girls - Arlington Heights Park District
LOCATION:Pioneer Gym
CATEGORIES:QuickScores; Basketball - Youth Game
TRANSP:0
DALARM:20251214T110000;PT10M;2;Wings vs. Fever
END:VEVENT
END:VCALENDAR
