BEGIN:VCALENDAR
VERSION:1.0
BEGIN:VEVENT
DTSTART:20251101T130000
DTEND:20251101T140000
SUMMARY:Dream vs. Lynx
DESCRIPTION:4th/5th Grade Girls - Arlington Heights Park District
LOCATION:Poe School
CATEGORIES:QuickScores; Basketball - Youth Game
TRANSP:0
DALARM:20251101T110000;PT10M;2;Dream vs. Lynx
END:VEVENT
BEGIN:VEVENT
DTSTART:20251102T160000
DTEND:20251102T160000
SUMMARY:Sky vs. Dream
DESCRIPTION:4th/5th Grade Girls - Arlington Heights Park District
LOCATION:Camelot Full Court
CATEGORIES:QuickScores; Basketball - Youth Game
TRANSP:0
DALARM:20251102T130000;PT10M;2;Sky vs. Dream
END:VEVENT
BEGIN:VEVENT
DTSTART:20251108T150000
DTEND:20251108T160000
SUMMARY:Fever vs. Dream
DESCRIPTION:4th/5th Grade Girls - Arlington Heights Park District
LOCATION:Pioneer Gym
CATEGORIES:QuickScores; Basketball - Youth Game
TRANSP:0
DALARM:20251108T130000;PT10M;2;Fever vs. Dream
END:VEVENT
BEGIN:VEVENT
DTSTART:20251115T140000
DTEND:20251115T150000
SUMMARY:Dream vs. Sparks
DESCRIPTION:4th/5th Grade Girls - Arlington Heights Park District
LOCATION:Pioneer Gym
CATEGORIES:QuickScores; Basketball - Youth Game
TRANSP:0
DALARM:20251115T120000;PT10M;2;Dream vs. Sparks
END:VEVENT
BEGIN:VEVENT
DTSTART:20251122T120000
DTEND:20251122T130000
SUMMARY:Mystics vs. Dream
DESCRIPTION:4th/5th Grade Girls - Arlington Heights Park District
LOCATION:Poe School
CATEGORIES:QuickScores; Basketball - Youth Game
TRANSP:0
DALARM:20251122T100000;PT10M;2;Mystics vs. Dream
END:VEVENT
BEGIN:VEVENT
DTSTART:20251123T160000
DTEND:20251123T170000
SUMMARY:Aces vs. Dream
DESCRIPTION:4th/5th Grade Girls - Arlington Heights Park District
LOCATION:Pioneer Gym
CATEGORIES:QuickScores; Basketball - Youth Game
TRANSP:0
DALARM:20251123T140000;PT10M;2;Aces vs. Dream
END:VEVENT
BEGIN:VEVENT
DTSTART:20251206T160000
DTEND:20251206T170000
SUMMARY:Dream vs. Liberty
DESCRIPTION:4th/5th Grade Girls - Arlington Heights Park District
LOCATION:Camelot Full Court
CATEGORIES:QuickScores; Basketball - Youth Game
TRANSP:0
DALARM:20251206T140000;PT10M;2;Dream vs. Liberty
END:VEVENT
BEGIN:VEVENT
DTSTART:20251213T150000
DTEND:20251213T160000
SUMMARY:Dream vs. Valkyries
DESCRIPTION:4th/5th Grade Girls - Arlington Heights Park District
LOCATION:Camelot Full Court
CATEGORIES:QuickScores; Basketball - Youth Game
TRANSP:0
DALARM:20251213T130000;PT10M;2;Dream vs. Valkyries
END:VEVENT
END:VCALENDAR
