BEGIN:VCALENDAR
VERSION:1.0
BEGIN:VEVENT
DTSTART:20250906T100500
DTEND:20250906T111000
SUMMARY:Dragons vs. Eagles
DESCRIPTION:Boys 4th Grade - Arlington Heights Park District
LOCATION:Dunton/D25 Soccer Field #1 - 5v5
CATEGORIES:QuickScores; Soccer - Youth Game
TRANSP:0
DALARM:20250906T080500;PT10M;2;Dragons vs. Eagles
END:VEVENT
BEGIN:VEVENT
DTSTART:20250907T130500
DTEND:20250907T141000
SUMMARY:Chargers vs. Dragons
DESCRIPTION:Boys 4th Grade - Arlington Heights Park District
LOCATION:Frontier Soccer Field #1 - 7v7
CATEGORIES:QuickScores; Soccer - Youth Game
TRANSP:0
DALARM:20250907T110500;PT10M;2;Chargers vs. Dragons
END:VEVENT
BEGIN:VEVENT
DTSTART:20250914T120500
DTEND:20250914T131000
SUMMARY:Huskies vs. Dragons
DESCRIPTION:Boys 4th Grade - Arlington Heights Park District
LOCATION:Miner Soccer Field #4 -7v7
CATEGORIES:QuickScores; Soccer - Youth Game
TRANSP:0
DALARM:20250914T100500;PT10M;2;Huskies vs. Dragons
END:VEVENT
BEGIN:VEVENT
DTSTART:20250920T100500
DTEND:20250920T111000
SUMMARY:Hawks vs. Dragons
DESCRIPTION:Boys 4th Grade - Arlington Heights Park District
LOCATION:Dunton/D25 Soccer Field #1 - 5v5
CATEGORIES:QuickScores; Soccer - Youth Game
TRANSP:0
DALARM:20250920T080500;PT10M;2;Hawks vs. Dragons
END:VEVENT
BEGIN:VEVENT
DTSTART:20250927T090000
DTEND:20250927T100500
SUMMARY:Eagles vs. Dragons
DESCRIPTION:Boys 4th Grade - Arlington Heights Park District
LOCATION:Dunton/D25 Soccer Field #1 - 5v5
CATEGORIES:QuickScores; Soccer - Youth Game
TRANSP:0
DALARM:20250927T070000;PT10M;2;Eagles vs. Dragons
END:VEVENT
BEGIN:VEVENT
DTSTART:20251004T121500
DTEND:20251004T132000
SUMMARY:Dragons vs. Chargers
DESCRIPTION:Boys 4th Grade - Arlington Heights Park District
LOCATION:Frontier Soccer Field #1 - 7v7
CATEGORIES:QuickScores; Soccer - Youth Game
TRANSP:0
DALARM:20251004T101500;PT10M;2;Dragons vs. Chargers
END:VEVENT
BEGIN:VEVENT
DTSTART:20251011T153000
DTEND:20251011T163500
SUMMARY:Dragons vs. Hawks
DESCRIPTION:JAMBOREE! --- Boys 4th Grade - Arlington Heights Park District
LOCATION:Patriots Soccer Field #2 - 7v7
CATEGORIES:QuickScores; Soccer - Youth Game
TRANSP:0
DALARM:20251011T133000;PT10M;2;Dragons vs. Hawks
END:VEVENT
BEGIN:VEVENT
DTSTART:20251018T090000
DTEND:20251018T100500
SUMMARY:Dragons vs. Huskies
DESCRIPTION:Boys 4th Grade - Arlington Heights Park District
LOCATION:Heritage Soccer Field #1 - 7v7
CATEGORIES:QuickScores; Soccer - Youth Game
TRANSP:0
DALARM:20251018T070000;PT10M;2;Dragons vs. Huskies
END:VEVENT
END:VCALENDAR
