BEGIN:VCALENDAR
VERSION:1.0
BEGIN:VEVENT
DTSTART:20250509T204000
DTEND:20250509T214500
SUMMARY:Crush Dingers vs. Warrior Dudes
DESCRIPTION:Friday Rec - Arlington Heights Park District
LOCATION:Melas #4
CATEGORIES:QuickScores; Softball - Adult Game
TRANSP:0
DALARM:20250509T184000;PT10M;2;Crush Dingers vs. Warrior Dudes
END:VEVENT
BEGIN:VEVENT
DTSTART:20250530T193500
DTEND:20250530T204000
SUMMARY:12 In Monsters vs. Warrior Dudes
DESCRIPTION:Friday Rec - Arlington Heights Park District
LOCATION:Melas #4
CATEGORIES:QuickScores; Softball - Adult Game
TRANSP:0
DALARM:20250530T173500;PT10M;2;12 In Monsters vs. Warrior Dudes
END:VEVENT
BEGIN:VEVENT
DTSTART:20250606T193500
DTEND:20250606T204000
SUMMARY:Warrior Dudes vs. Big Dog Gotta Eat
DESCRIPTION:Friday Rec - Arlington Heights Park District
LOCATION:Melas #4
CATEGORIES:QuickScores; Softball - Adult Game
TRANSP:0
DALARM:20250606T173500;PT10M;2;Warrior Dudes vs. Big Dog Gotta Eat
END:VEVENT
BEGIN:VEVENT
DTSTART:20250613T193500
DTEND:20250613T204000
SUMMARY:Bombers vs. Warrior Dudes
DESCRIPTION:Friday Rec - Arlington Heights Park District
LOCATION:Melas #3
CATEGORIES:QuickScores; Softball - Adult Game
TRANSP:0
DALARM:20250613T173500;PT10M;2;Bombers vs. Warrior Dudes
END:VEVENT
BEGIN:VEVENT
DTSTART:20250620T213500
DTEND:20250620T224000
SUMMARY:Warrior Dudes vs. Booze Brothers
DESCRIPTION:Friday Rec - Arlington Heights Park District
LOCATION:Melas #3
CATEGORIES:QuickScores; Softball - Adult Game
TRANSP:0
DALARM:20250620T193500;PT10M;2;Warrior Dudes vs. Booze Brothers
END:VEVENT
BEGIN:VEVENT
DTSTART:20250627T183000
DTEND:20250627T193500
SUMMARY:Batzzers vs. Warrior Dudes
DESCRIPTION:Friday Rec - Arlington Heights Park District
LOCATION:Melas #4
CATEGORIES:QuickScores; Softball - Adult Game
TRANSP:0
DALARM:20250627T163000;PT10M;2;Batzzers vs. Warrior Dudes
END:VEVENT
BEGIN:VEVENT
DTSTART:20250711T183000
DTEND:20250711T193500
SUMMARY:Warrior Dudes vs. Unburdened Bro's 2.0
DESCRIPTION:Friday Rec - Arlington Heights Park District
LOCATION:Melas #4
CATEGORIES:QuickScores; Softball - Adult Game
TRANSP:0
DALARM:20250711T163000;PT10M;2;Warrior Dudes vs. Unburdened Bro's 2.0
END:VEVENT
BEGIN:VEVENT
DTSTART:20250718T183000
DTEND:20250718T193500
SUMMARY:Sons of Pitches vs. Warrior Dudes
DESCRIPTION:Friday Rec - Arlington Heights Park District
LOCATION:Melas #3
CATEGORIES:QuickScores; Softball - Adult Game
TRANSP:0
DALARM:20250718T163000;PT10M;2;Sons of Pitches vs. Warrior Dudes
END:VEVENT
BEGIN:VEVENT
DTSTART:20250725T213500
DTEND:20250725T224000
SUMMARY:Warrior Dudes vs. BenBall
DESCRIPTION:Friday Rec - Arlington Heights Park District
LOCATION:Melas #3
CATEGORIES:QuickScores; Softball - Adult Game
TRANSP:0
DALARM:20250725T193500;PT10M;2;Warrior Dudes vs. BenBall
END:VEVENT
BEGIN:VEVENT
DTSTART:20250808T204000
DTEND:20250808T214500
SUMMARY:Warrior Dudes vs. Marine Jets
DESCRIPTION:RESCHEDULED GAME FROM 5/16 --- Friday Rec - Arlington Heights Park District
LOCATION:Melas #4
CATEGORIES:QuickScores; Softball - Adult Game
TRANSP:0
DALARM:20250808T184000;PT10M;2;Warrior Dudes vs. Marine Jets
END:VEVENT
END:VCALENDAR
