BEGIN:VCALENDAR
VERSION:1.0
BEGIN:VEVENT
DTSTART:20250509T204000
DTEND:20250509T214500
SUMMARY:Crush Dingers vs. Warrior Dudes
DESCRIPTION:Friday Rec - Arlington Heights Park District
LOCATION:Melas #4
CATEGORIES:QuickScores; Softball - Adult Game
TRANSP:0
DALARM:20250509T184000;PT10M;2;Crush Dingers vs. Warrior Dudes
END:VEVENT
BEGIN:VEVENT
DTSTART:20250530T204000
DTEND:20250530T214500
SUMMARY:BenBall vs. Crush Dingers
DESCRIPTION:Friday Rec - Arlington Heights Park District
LOCATION:Melas #4
CATEGORIES:QuickScores; Softball - Adult Game
TRANSP:0
DALARM:20250530T184000;PT10M;2;BenBall vs. Crush Dingers
END:VEVENT
BEGIN:VEVENT
DTSTART:20250606T213500
DTEND:20250606T224000
SUMMARY:Crush Dingers vs. Batzzers
DESCRIPTION:Friday Rec - Arlington Heights Park District
LOCATION:Melas #3
CATEGORIES:QuickScores; Softball - Adult Game
TRANSP:0
DALARM:20250606T193500;PT10M;2;Crush Dingers vs. Batzzers
END:VEVENT
BEGIN:VEVENT
DTSTART:20250613T193500
DTEND:20250613T204000
SUMMARY:Unburdened Bro's 2.0 vs. Crush Dingers
DESCRIPTION:Friday Rec - Arlington Heights Park District
LOCATION:Melas #4
CATEGORIES:QuickScores; Softball - Adult Game
TRANSP:0
DALARM:20250613T173500;PT10M;2;Unburdened Bro's 2.0 vs. Crush Dingers
END:VEVENT
BEGIN:VEVENT
DTSTART:20250620T183000
DTEND:20250620T193500
SUMMARY:Crush Dingers vs. Bombers
DESCRIPTION:Friday Rec - Arlington Heights Park District
LOCATION:Melas #4
CATEGORIES:QuickScores; Softball - Adult Game
TRANSP:0
DALARM:20250620T163000;PT10M;2;Crush Dingers vs. Bombers
END:VEVENT
BEGIN:VEVENT
DTSTART:20250627T193500
DTEND:20250627T204000
SUMMARY:Booze Brothers vs. Crush Dingers
DESCRIPTION:Friday Rec - Arlington Heights Park District
LOCATION:Melas #3
CATEGORIES:QuickScores; Softball - Adult Game
TRANSP:0
DALARM:20250627T173500;PT10M;2;Booze Brothers vs. Crush Dingers
END:VEVENT
BEGIN:VEVENT
DTSTART:20250718T183000
DTEND:20250718T193500
SUMMARY:Big Dog Gotta Eat vs. Crush Dingers
DESCRIPTION:Friday Rec - Arlington Heights Park District
LOCATION:Melas #4
CATEGORIES:QuickScores; Softball - Adult Game
TRANSP:0
DALARM:20250718T163000;PT10M;2;Big Dog Gotta Eat vs. Crush Dingers
END:VEVENT
BEGIN:VEVENT
DTSTART:20250801T183000
DTEND:20250801T193500
SUMMARY:Marine Jets vs. Crush Dingers
DESCRIPTION:Friday Rec - Arlington Heights Park District
LOCATION:Melas #3
CATEGORIES:QuickScores; Softball - Adult Game
TRANSP:0
DALARM:20250801T163000;PT10M;2;Marine Jets vs. Crush Dingers
END:VEVENT
BEGIN:VEVENT
DTSTART:20250808T183000
DTEND:20250808T193500
SUMMARY:Crush Dingers vs. 12 In Monsters
DESCRIPTION:Game Continuation from 7/11 - Top 3 - Crush Dingers up to Bat  - 2 outs and runners on 2nd and 3rd -  Count 3-1  - Crush Dingers 1 and 12 In Monsters 3 --- Friday Rec - Arlington Heights Park District
LOCATION:Melas #4
CATEGORIES:QuickScores; Softball - Adult Game
TRANSP:0
DALARM:20250808T163000;PT10M;2;Crush Dingers vs. 12 In Monsters
END:VEVENT
BEGIN:VEVENT
DTSTART:20250808T193500
DTEND:20250808T204000
SUMMARY:Crush Dingers vs. Sons of Pitches
DESCRIPTION:RESCHEDULED GAME FROM 5/16 --- Friday Rec - Arlington Heights Park District
LOCATION:Melas #4
CATEGORIES:QuickScores; Softball - Adult Game
TRANSP:0
DALARM:20250808T173500;PT10M;2;Crush Dingers vs. Sons of Pitches
END:VEVENT
END:VCALENDAR
