BEGIN:VCALENDAR
VERSION:1.0
BEGIN:VEVENT
DTSTART:20250509T193500
DTEND:20250509T204000
SUMMARY:12 In Monsters vs. Sons of Pitches
DESCRIPTION:Friday Rec - Arlington Heights Park District
LOCATION:Melas #3
CATEGORIES:QuickScores; Softball - Adult Game
TRANSP:0
DALARM:20250509T173500;PT10M;2;12 In Monsters vs. Sons of Pitches
END:VEVENT
BEGIN:VEVENT
DTSTART:20250530T183000
DTEND:20250530T193500
SUMMARY:Bombers vs. Sons of Pitches
DESCRIPTION:Friday Rec - Arlington Heights Park District
LOCATION:Melas #4
CATEGORIES:QuickScores; Softball - Adult Game
TRANSP:0
DALARM:20250530T163000;PT10M;2;Bombers vs. Sons of Pitches
END:VEVENT
BEGIN:VEVENT
DTSTART:20250606T204000
DTEND:20250606T214500
SUMMARY:Marine Jets vs. Sons of Pitches
DESCRIPTION:Friday Rec - Arlington Heights Park District
LOCATION:Melas #4
CATEGORIES:QuickScores; Softball - Adult Game
TRANSP:0
DALARM:20250606T184000;PT10M;2;Marine Jets vs. Sons of Pitches
END:VEVENT
BEGIN:VEVENT
DTSTART:20250613T183000
DTEND:20250613T193500
SUMMARY:Batzzers vs. Sons of Pitches
DESCRIPTION:Friday Rec - Arlington Heights Park District
LOCATION:Melas #3
CATEGORIES:QuickScores; Softball - Adult Game
TRANSP:0
DALARM:20250613T163000;PT10M;2;Batzzers vs. Sons of Pitches
END:VEVENT
BEGIN:VEVENT
DTSTART:20250620T204000
DTEND:20250620T214500
SUMMARY:Sons of Pitches vs. Big Dog Gotta Eat
DESCRIPTION:Friday Rec - Arlington Heights Park District
LOCATION:Melas #4
CATEGORIES:QuickScores; Softball - Adult Game
TRANSP:0
DALARM:20250620T184000;PT10M;2;Sons of Pitches vs. Big Dog Gotta Eat
END:VEVENT
BEGIN:VEVENT
DTSTART:20250711T193500
DTEND:20250711T204000
SUMMARY:Sons of Pitches vs. Booze Brothers
DESCRIPTION:Friday Rec - Arlington Heights Park District
LOCATION:Melas #4
CATEGORIES:QuickScores; Softball - Adult Game
TRANSP:0
DALARM:20250711T173500;PT10M;2;Sons of Pitches vs. Booze Brothers
END:VEVENT
BEGIN:VEVENT
DTSTART:20250718T183000
DTEND:20250718T193500
SUMMARY:Sons of Pitches vs. Warrior Dudes
DESCRIPTION:Friday Rec - Arlington Heights Park District
LOCATION:Melas #3
CATEGORIES:QuickScores; Softball - Adult Game
TRANSP:0
DALARM:20250718T163000;PT10M;2;Sons of Pitches vs. Warrior Dudes
END:VEVENT
BEGIN:VEVENT
DTSTART:20250725T203000
DTEND:20250725T213500
SUMMARY:Sons of Pitches vs. Unburdened Bro's 2.0
DESCRIPTION:Friday Rec - Arlington Heights Park District
LOCATION:Melas #3
CATEGORIES:QuickScores; Softball - Adult Game
TRANSP:0
DALARM:20250725T183000;PT10M;2;Sons of Pitches vs. Unburdened Bro's 2.0
END:VEVENT
BEGIN:VEVENT
DTSTART:20250801T183000
DTEND:20250801T193500
SUMMARY:Sons of Pitches vs. BenBall
DESCRIPTION:Friday Rec - Arlington Heights Park District
LOCATION:Melas #4
CATEGORIES:QuickScores; Softball - Adult Game
TRANSP:0
DALARM:20250801T163000;PT10M;2;Sons of Pitches vs. BenBall
END:VEVENT
BEGIN:VEVENT
DTSTART:20250808T193500
DTEND:20250808T204000
SUMMARY:Crush Dingers vs. Sons of Pitches
DESCRIPTION:RESCHEDULED GAME FROM 5/16 --- Friday Rec - Arlington Heights Park District
LOCATION:Melas #4
CATEGORIES:QuickScores; Softball - Adult Game
TRANSP:0
DALARM:20250808T173500;PT10M;2;Crush Dingers vs. Sons of Pitches
END:VEVENT
END:VCALENDAR
